BEGIN:VCALENDAR
PRODID:-//eluceo/ical//2.0/EN
VERSION:2.0
CALSCALE:GREGORIAN
BEGIN:VEVENT
UID:af366244cf98f4370a7ab33717410b95
DTSTAMP:20260423T125537Z
SUMMARY:Jak se prosadit na trzích Argentiny a Brazílie
DESCRIPTION:Název akce: Jak se prosadit na trzích Argentiny a Brazílie\n
 URL: https://www.spcr.cz/jak-se-prosadit-na-trzich-argentiny-brazilie\nPop
 is: \n\nOdbor ekonomicko-vědecké diplomacie Ministerstva zahraničních 
 věcí si Vás dovoluje pozvat na seminář o aktuálních obchodních a p
 odnikatelských příležitostech pro české firmy v Argentině a Brazí
 lii\, který proběhne v úterý 21. listopadu od 10:00 hodin v Černíns
 kém paláci v Praze.\n\n\n\n\nNa semináři vystoupí s informacemi o ar
 gentinském trhu Radek Hovorka\, ekonomický diplomat Velvyslanectví ČR
  v Buenos Aires. O příležitosti na brazilském trhu se podělí Filip
  Vavřínek\, ekonomický diplomat Velvyslanectví ČR v Brasílii.\nÚč
 astníkům semináře budou diplomaté prezentovat aktuální obchodní a 
 investiční příležitosti na těchto dvou trzích Latinské Ameriky\, a
 le také informace o kultuře obchodního jednání\, specifikách trhů a
  stavu ekonomiky v každé z uvedených zemí.\nO den později\, ve střed
 u 22. listopadu\, proběhne od 10:00 hodin seminář na stejné téma ve Z
 líně ve spolupráci s Krajskou hospodářskou komorou Zlínského kraje
 . Po skončení prezentací v Praze i Zlíně proběhnou pro zájemce z ř
 ad firem individuální konzultace s oběma ekonomickými diplomaty.\nNa 
 seminář do Prahy se registrujte na emailu: AkceOED@mzv.cz. Na seminář
  do Zlína se registrujte na kontaktu: Bohdana Lavrovičová – lavrovic
 ova@khkzk.cz.\nZákladní informace o jednotlivých trzích naleznete v ak
 tuální Souhrnné teritoriální informaci zpracované pro Argentinu a
  Brazílii. Konkrétní sektorové příležitosti přibližuje publikace
  Mapa globálních oborových příležitostí 2023/2024 dostupná na m
 zv.publi.cz.\n
URL:https://www.spcr.cz/jak-se-prosadit-na-trzich-argentiny-brazilie
DTSTART:20231121T000000
DTEND:20231121T235959
LOCATION:
END:VEVENT
END:VCALENDAR
