BEGIN:VCALENDAR
PRODID:-//eluceo/ical//2.0/EN
VERSION:2.0
CALSCALE:GREGORIAN
BEGIN:VEVENT
UID:c6609aa157cd717d516f6674f981f0fc
DTSTAMP:20260423T125756Z
SUMMARY:Den polské logistiky
DESCRIPTION:Název akce: Den polské logistiky\nURL: https://www.spcr.cz/de
 n-polske-logistiky\nPopis: \n\nZveme Vás na konferenci Den polské logis
 tiky – celodenní konferenci o česko-polské spolupráci v oblasti dopr
 avy a logistiky\, která zahrnuje prezentaci polské nabídky infrastruktu
 ry pro zástupce českého byznysu\, státní a veřejné správy i vědec
 kých kruhů. Akce se bude konat v úterý 14. 11. v prostorách Velvyslan
 ectví Polské republiky v Praze (Valdštejnská 8\, 118 01 Praha 1).\nPro
 gram\n
URL:https://www.spcr.cz/den-polske-logistiky
DTSTART:20231114T093000
DTEND:20231114T235959
LOCATION:
END:VEVENT
END:VCALENDAR
