BEGIN:VCALENDAR
PRODID:-//eluceo/ical//2.0/EN
VERSION:2.0
CALSCALE:GREGORIAN
BEGIN:VEVENT
UID:6fc92dc09cb1fee15b67600acea25952
DTSTAMP:20260423T145950Z
SUMMARY:Šikana na pracovišti\, syndrom vyhoření\, mobbing\, bossing. Ja
 k je rozeznat a úspěšně se jim bránit?
DESCRIPTION:Název akce: Šikana na pracovišti\, syndrom vyhoření\, mobb
 ing\, bossing. Jak je rozeznat a úspěšně se jim bránit?\nURL: https:/
 /www.spcr.cz/sikana-na-pracovisti-syndrom-vyhoreni-mobbing-bossing-jak-je-
 rozeznat-uspesne-se-jim-branit\nPopis: \n\nSvaz průmyslu a dopravy Česk
 é republiky\, Okresní hospodářská komora Liberec a Spolek pro rozvoj 
 lidských zdrojů Liberec vás srdečně zvou na seminář\nŠIKANA NA PRA
 COVIŠTI\, SYNDROM VYHOŘENÍ\, MOBBING\, BOSSING - Jak je rozeznat a úsp
 ěšně se jim bránit?\nCo na semináři uslyšíte?\n\nJak může dát f
 irma dopředu najevo\, že šikanózní chování netoleruje?\nKdyž se š
 ikana na pracovišti vyskytne. Jak postupovat?\nKoho pověřit řešením?
 \nJaké kroky by mělo řešení obsahovat?\nJak celý případ uzavřít?
 \nJak a v jaké míře informovat zaměstnance o (vy)řešení šikany\, n
 a co nezapomenout?\n\nRÁMCOVÝ PROGRAM:09:00 - 09:30 Registrace účastn
 íků09:30 - 11:00 Uvedení do tématu\, syndrom vyhoření11:00 - 11:15 P
 řestávka\, občerstvení11:15 - 12:15 Klíčová role řídícího praco
 vníka12:15 - 12:30 Přestávka\, občerstvení12:30 - 13:30 Jak řešit 
 šikanu na pracovišti13:30 - 14:00 Diskuse\, závěr\nPŘEDNÁŠEJÍCÍ:J
 ulie Růžičková se věnuje posledních 8 let práci v nadačním sektor
 u. Je spoluzakladatelka Filantia a Svépomocných vztahových skupin (víc
 e zde). Před tím pracovala jako šéfredaktora\, tisková mluvčí a PR 
 manažerka pro projekty zaměřené na vzdělávání. Svoji kariéru odst
 artovala ve společnosti Microsoft\, kde pracovala na obchodních a market
 ingových pozicích 13 let.\nMartina Petrovičová - Expertka na pomoc ob
 ětem trestných činů a garantka programu prevence šikany na pracovišt
 i Fondu Filantia.\nRegistrace: Na setkání se\, prosím\, registrujte ZDE
  nejpozději do 24. 11. 2023.\nCENA: 2900\,- Kč (vč. DPH) / 2300\,- Kč 
 (vč. DPH)\nDetailní informace naleznete v pozvánce zde.\n
URL:https://www.spcr.cz/sikana-na-pracovisti-syndrom-vyhoreni-mobbing-bossi
 ng-jak-je-rozeznat-uspesne-se-jim-branit
DTSTART:20231129T090000
DTEND:20231129T140000
LOCATION:
END:VEVENT
END:VCALENDAR
