BEGIN:VCALENDAR
PRODID:-//eluceo/ical//2.0/EN
VERSION:2.0
CALSCALE:GREGORIAN
BEGIN:VEVENT
UID:92622aaab126abacca0eeaca351e724a
DTSTAMP:20260423T192610Z
SUMMARY:Fifth China-CEEC (Cangzhou) SME Cooperation Forum
DESCRIPTION:Název akce: Fifth China-CEEC (Cangzhou) SME Cooperation Forum\
 nURL: https://www.spcr.cz/fifth-china-ceec-cangzhou-sme-cooperation-forum\
 nPopis: \n\nThe fifth China-CEEC (Cangzhou) SME Cooperation Forum will be 
 held from 13th-14th November in Cangzhou City\, Hebei Province. The forum 
 is sponsored by Ministry of Industry and Information Technology of PRC and
  the Government of Hebei Province\, with the theme of  "expand openness a
 nd cooperation for win-win development"\, and will include opening ceremon
 y\, keynote forums\, exhibition\, as well as a matchmaking session. \nInv
 itation letter link (program + registration receipt included)\nContact pe
 rson: \n孔亚飞(女士) /Kong Yafei（Ms.）Economic & Commercial Offic
 e of Chinese Embassy in the Czech RepublicPelleova 18\, 16000 Praha 6 Bube
 nec\, Czech RepublicTel: 00420 233 028 861 Fax: 00420 233 028 876\n
URL:https://www.spcr.cz/fifth-china-ceec-cangzhou-sme-cooperation-forum
DTSTART:20231113T000000
DTEND:20231114T235959
LOCATION:
END:VEVENT
END:VCALENDAR
