BEGIN:VCALENDAR
PRODID:-//eluceo/ical//2.0/EN
VERSION:2.0
CALSCALE:GREGORIAN
BEGIN:VEVENT
UID:7561db8fb20cc52cb35bc854f74f1b7c
DTSTAMP:20260423T173549Z
SUMMARY:Online seminář: INCOTERMS 2020 v praktických příkladech
DESCRIPTION:Název akce: Online seminář: INCOTERMS 2020 v praktických p
 říkladech\nURL: https://www.spcr.cz/online-seminar-incoterms-2020-v-prak
 tickych-prikladech\nPopis: \n\nDovolujeme si Vás pozvat na online seminá
 ř organizovaný kanceláří CzechTrade.\nOBSAH SEMINÁŘE: \n\nVýznam 
 Pravidel INCOTERMS pro mezinárodní obchod\, trendy a jejich promítnut
 í do vývoje Pravidel\nPostavení pravidla v kupní smlouvě\, vztah zvol
 eného pravidla k dalším náležitostem kupní smlouvy\nCelní a daňov
 é konotace pravidel\nINCOTERMS 2020 – rozdíly oproti INCOTERMS 2010\nV
 ývoj pravidel od roku 1934\, obecné zásady revize INCOTERMS 2020\nJed
 notlivá Pravidla INCOTERMS 2020 podrobněji\nDiskuse\, dotazy\n\nVíce 
 informací k dispozici zde.\n
URL:https://www.spcr.cz/online-seminar-incoterms-2020-v-praktickych-priklad
 ech
DTSTART:20231123T130000
DTEND:20231123T170000
LOCATION:
END:VEVENT
END:VCALENDAR
