BEGIN:VCALENDAR
PRODID:-//eluceo/ical//2.0/EN
VERSION:2.0
CALSCALE:GREGORIAN
BEGIN:VEVENT
UID:1a5e26febfdcb3380cd5f89cdd0eb44d
DTSTAMP:20260423T145950Z
SUMMARY:Online seminář: KANADA – země s velkým exportním potenciále
 m
DESCRIPTION:Název akce: Online seminář: KANADA – země s velkým expor
 tním potenciálem\nURL: https://www.spcr.cz/online-seminar-kanada-zeme-s-
 velkym-exportnim-potencialem\nPopis: \n\nDovolujeme si Vás pozvat na semi
 nář organizovaný společností CzechTrade. \nNa semináři se dovíte:
 \n\nAktuální informace z kanadského trhu – současné ekonomické kli
 ma\nSpecifika trhu\, kulturní rozdíly\, obchodní zvyklosti\nPraktické 
 tipy pro obchodování – perspektivní obory\, doporučené kroky\, jak
 ým chybám se vyhnout\nSlužby Czechtrade\nOtázky & Odpovědi\n\nVíce i
 nformací k dispozici zde. \n
URL:https://www.spcr.cz/online-seminar-kanada-zeme-s-velkym-exportnim-poten
 cialem
DTSTART:20231102T150000
DTEND:20231102T163000
LOCATION:
END:VEVENT
END:VCALENDAR
