BEGIN:VCALENDAR
PRODID:-//eluceo/ical//2.0/EN
VERSION:2.0
CALSCALE:GREGORIAN
BEGIN:VEVENT
UID:1a645293a748f7b8868f100bea24d800
DTSTAMP:20260423T162819Z
SUMMARY:Seminář: Financování inovací a zvyšování konkurenceschopnos
 ti firem na zahraničních trzích
DESCRIPTION:Název akce: Seminář: Financování inovací a zvyšování k
 onkurenceschopnosti firem na zahraničních trzích\nURL: https://www.spcr
 .cz/seminar-financovani-inovaci-zvysovani-konkurenceschopnosti-firem-na-za
 hranicnich-trzich\nPopis: \n\nJak financovat inovace a zvýšit svoji konk
 urenceschopnost?\nPředpokladem je inovativní výrobek\, služba nebo te
 chnologie\, které by měly projít technologickým vývojem. Benefitem je
  pak schopnost firmy umět využívat vhodné nástroje\, které ji pomoh
 ou získat konkurenční výhodu nebo urychlí vstup na zahraniční trhy.
 \nProgram semináře\, organizovaný Technologickým centrem Praha a agent
 urou CzechTrade\, je prakticky zaměřen na vybrané národní a evropské
  programy podpory s nízkou náročností přípravy a administrace. \nN
 ovinkou jsou energetické vouchery (EENergy)\, bude představena podpora 
 transferu kosmických technologií (ESA Spark Funding)\, program SIGMA 
 s vysokou úspěšností\, program SME Fund pro financování patentů a
  ochranných známek a seznámíte se s vouchery a kaskádovými granty 
 (ADMA).\nPřijďte si poslechnout příběhy klientských firem\, které b
 udou sdílet své zkušenosti s financováním studie proveditelnosti\, v
 ývoje produktu nebo vstupu na trh!\nCílovou skupinou jsou malé a střed
 ní firmy v období růstu nebo rozvinuté technologické firmy.\nÚčast
  na semináři je bezplatná. Registrace a více informací je k dispozici
  ZDE. \nKdy:   7. 11. 2023 - 9.30\nKde: Technologické centrum Praha
 \, Ve Struhách 27\, Praha 6\nKonec akce:   14.00\n \nKontakt: J. Vavř
 ínek (TC Praha)\, vavrinek@tc.cz\, 739 018 344\n
URL:https://www.spcr.cz/seminar-financovani-inovaci-zvysovani-konkurencesch
 opnosti-firem-na-zahranicnich-trzich
DTSTART:20231107T093000
DTEND:20231107T140000
LOCATION:
END:VEVENT
END:VCALENDAR
