BEGIN:VCALENDAR
PRODID:-//eluceo/ical//2.0/EN
VERSION:2.0
CALSCALE:GREGORIAN
BEGIN:VEVENT
UID:4eb9c6a2d49a10c168cdbbc3279dbf61
DTSTAMP:20260423T162642Z
SUMMARY:ZRUŠENO: ESG jako konkurenční výhoda aneb jak se připravit na 
 nefinanční reporting
DESCRIPTION:Název akce: ZRUŠENO: ESG jako konkurenční výhoda aneb jak 
 se připravit na nefinanční reporting\nURL: https://www.spcr.cz/zruseno-
 esg-jako-konkurencni-vyhoda-aneb-jak-se-pripravit-na-nefinancni-reporting\
 nPopis: \n\nZ organizačních důvodů byl tento seminář v tomto termín
 u zrušen. Děkujeme za pochopení.\n-------------------------------------
 --------------------------------------------------------------------------
 --------------------------------------\nSvaz průmyslu a dopravy České r
 epubliky ve spolupráci s Asociací udržitelného podnikání a COM.SE C
 onsulting srdečně zvou na seminář\nSlyšeli jste už o ESG a chystaný
 ch povinnostech pro firmy\, ale ještě nevíte\, zda či jak přesně se 
 Vás to týká? Chcete mít náskok před konkurenty\, být připraveni na
  požadavky velkých odběratelů nebo bank a dalších finančních insti
 tucí? Pokud jste odpověděli alespoň jednou ano\, neváhejte se přihl
 ásit na náš online kurz\, který Vás tématem provede.\n Program:\n\n
 Globální kontext a strategické politiky – od Pařížské dohody OSN\
 , přes Green Deal for Europe až po Agendu ČR2030\nLegislativa a nové p
 ovinnosti pro firmy – co\, od kdy a pro koho bude povinné a co další
 ho se ještě chystá - CSRD a nefinanční reporting dle nových standard
 ů ESRS\, EU Taxonomie\, CS3D a odpovědnost za dodavatelský řetězec\, 
 péče řádného hospodáře\, atd.\nESG jako konkurenční výhoda a ná
 stroj řízení rizik a zvyšování odolnosti firem – shrnutí tlaků a
  rizik působících v této souvislosti na firmy\, ale také motivací a
  benefitů\, které to nabízí.\nPříklady úspěšně zvládnuté impl
 ementace ESG do firmy a úspěšných projektů z řad členských firem 
 SPČR – inspirace kde začít\, sdílení zkušeností s tvorbou strateg
 ie udržitelnosti a přípravou nefinančních reportů i tipy na co si d
 át pozor – SOLEK\, Verdian a další.\n\nCena: 3900 Kč (pro členy 190
 0 Kč) bez DPH\nPozvánka\nRegistrační formulář\n \n \n
URL:https://www.spcr.cz/zruseno-esg-jako-konkurencni-vyhoda-aneb-jak-se-pri
 pravit-na-nefinancni-reporting
DTSTART:20231129T133000
DTEND:20231129T163000
LOCATION:
END:VEVENT
END:VCALENDAR
