BEGIN:VCALENDAR
PRODID:-//eluceo/ical//2.0/EN
VERSION:2.0
CALSCALE:GREGORIAN
BEGIN:VEVENT
UID:32637b547f6b03a46cc3628eeb569703
DTSTAMP:20260423T124858Z
SUMMARY:Understanding China Conference 2023
DESCRIPTION:Název akce: Understanding China Conference 2023\nURL: https://
 www.spcr.cz/understanding-china-conference-2023\nPopis: \n\nThe EU SME Cen
 tre’s annual flagship event\, the Understanding China Conference\, will 
 be back in Brussels on 24 and 25 October.\nOn the first day\, policymaker
 s from the EU institutions\, economists\, industry experts\, and think-tan
 k analysts will share their insights into EU-China trade relations\, China
 ’s economic outlook and policy environment and how these factors impact 
 European SMEs.\nThe second day of the Conference will include sessions on 
 specific issues faced by SMEs\, as well as presentations on IPR protection
  and market entry paths\, with case studies of enterprises already active 
 in the Chinese market.\nLocation: Brussels & Online\nLink to registration
 : https://www.eusmecentre.org.cn/events/save-the-date-understanding-china
 -conference-2023/\n
URL:https://www.spcr.cz/understanding-china-conference-2023
DTSTART:20231024T000000
DTEND:20231025T235959
LOCATION:
END:VEVENT
END:VCALENDAR
