BEGIN:VCALENDAR
PRODID:-//eluceo/ical//2.0/EN
VERSION:2.0
CALSCALE:GREGORIAN
BEGIN:VEVENT
UID:f8c2d848d45cedcbf5d89d6e4257a6a6
DTSTAMP:20260423T150133Z
SUMMARY:Podnikatelská mise do Chile a Uruguaye
DESCRIPTION:Název akce: Podnikatelská mise do Chile a Uruguaye\nURL: http
 s://www.spcr.cz/podnikatelska-mise-do-chile-uruguaye-0\nPopis: \n\nMiniste
 rstvo průmyslu a obchodu ČR a Svaz průmyslu a dopravy ČR Vás zvou k
  vyjádření předběžného zájmu k účasti na podnikatelské delegac
 i\, která bude doprovázet ministra průmyslu a obchodu Jozefa Síkelu d
 o Chile a Uruguaye\, která se bude předběžně konat ve dnech 10. - 16.
  3. 2024.\nHarmonogram cesty bude zahrnovat byznys fóra\, B2B networking/
 matchmaking a další doprovodné programy\, které umožní navázání k
 ontaktů s místním podnikatelským prostředím a zároveň pochopení j
 eho specifik.\nPrioritními sektory pro tuto podnikatelskou misi jsou ře
 šení a s nimi spojené služby z odvětví digitalizace a informačních
  technologií\, energetiky\, obnovitelných zdrojů energie a environment
 ální technologií\, a to od etablovaných značek\, tak i inovačních s
 tart-upů. \nNa základě aktuální kalkulace se předpokládá cena mise
  85.000Kč (pro členské firmy SP ČR 10% sleva). V případě zájmu o 
 účast na misi Vás žádáme o vyplnění formuláře (předběžný z
 ájem) v odkazu: předběžný zájem do 20. 11. 2023. \nSe zájemci o m
 isi budeme následně sdílet harmonogram a další detaily mise\, které 
 v této době komunikujeme s Ministerstvem průmyslu a obchodu ČR a pří
 slušnými Zastupitelskými úřady.\nMise se plánuje s velkým předstih
 em z důvodu nejen vánočních prázdnin a dnů volna v Česku\, ale tak
 é období prázdnin a dovolených na začátku roku 2024 v cílových zem
 ích.\nV případě jakýchkoliv nejasností či dotazů se na nás neváh
 ejte obrátit na email hkotkova@spcr.cz.\n
URL:https://www.spcr.cz/podnikatelska-mise-do-chile-uruguaye-0
DTSTART:20240310T000000
DTEND:20240316T235959
LOCATION:
END:VEVENT
END:VCALENDAR
