BEGIN:VCALENDAR
PRODID:-//eluceo/ical//2.0/EN
VERSION:2.0
CALSCALE:GREGORIAN
BEGIN:VEVENT
UID:1e0aa187ec87e3edd4c75cca270eedf6
DTSTAMP:20260423T094900Z
SUMMARY:Town Hall: Je manželství pro všechny páry dobré pro Česko?
DESCRIPTION:Název akce: Town Hall: Je manželství pro všechny páry dobr
 é pro Česko?\nURL: https://www.spcr.cz/town-hall-je-manzelstvi-pro-vsech
 ny-pary-dobre-pro-cesko\nPopis: \n\nPřijďte na Town Hall diskuzi s posla
 nci a poslankyněmi o manželství pro všechny páry\, kterou pořádáme
  v návaznosti na otevřený dopis firem premiéru Petru Fialovi iniciovan
 ý Vodafone ČR ve spolupráci se Svazem průmyslu a dopravy ČR. Patřít
 e mezi členy PBF\, SPČR nebo signatáře dopisu? Pak se na tuto akci mů
 žete registrovat zdarma. Více informací pro vás máme na info@pridebu
 sinessforum.com.\nVíce o akci a přihlášení.\nPro členy SPČR s kóde
 m townhall_spcr vstup zdarma.\n
URL:https://www.spcr.cz/town-hall-je-manzelstvi-pro-vsechny-pary-dobre-pro-
 cesko
DTSTART:20231123T180000
DTEND:20231123T235959
LOCATION:
END:VEVENT
END:VCALENDAR
