BEGIN:VCALENDAR
PRODID:-//eluceo/ical//2.0/EN
VERSION:2.0
CALSCALE:GREGORIAN
BEGIN:VEVENT
UID:8e86ea094587240772660227653afa96
DTSTAMP:20260423T125059Z
SUMMARY:Agro-Pack Turkmenistan 2023
DESCRIPTION:Název akce: Agro-Pack Turkmenistan 2023\nURL: https://www.spcr
 .cz/agro-pack-turkmenistan-2023\nPopis: \n\nObchodní a průmyslová komor
 a Turkmenistánu a Ministerstvo zemědělství Turkmenistánu spolu s Mini
 sterstvem obchodu Turecka a společností SOFUAR (Turecko) vás zvou k ú
 časti na Mezinárodní výstavě potravin\, obalů a zemědělství „Ag
 ro-Pack Turkmenistan -2023“ s cílem demonstrovat úspěchy v oblasti ze
 mědělství a farmaření.Na výstavě bude k vidění široká škála o
 blíbených produktů i novinek. Vaší pozornosti budou věnovány stánk
 y agroprůmyslového komplexu demonstrující bohatství a rozmanitost vys
 oce kvalitních potravinářských výrobků. Zvláštní pozornost je tak
 é věnována vybavení a designu obalů výrobků v souladu s ekologický
 mi a estetickými požadavky uznávaných mezinárodních norem.Výstava s
 e bude konat ve dnech 28.–30. listopadu 2023 na výstavišti Obchodní a
  průmyslové komory Turkmenistánu v Ašchabadu.Tématické části výst
 avy:\n\nbalicí zařízení a materiály\;\nzařízení pro pohostinství 
 a pekařství\;\nsýpky a mlýny\;\nzemědělské produkty\, semena\, hnoj
 iva a léčivé rostliny\;\nzařízení pro zpracování potravin a nápoj
 ů\;\npotraviny a doplňky\;\nskleníky\, sazenice a zahradnictví\;\nfarm
 y pro chov dobytka a drůbeže\;\nzavlažovací systém.\n\nVíce informac
 í o tomto veletrhu můžete nalézt zde.\n
URL:https://www.spcr.cz/agro-pack-turkmenistan-2023
DTSTART:20231128T080000
DTEND:20231130T170000
LOCATION:
END:VEVENT
END:VCALENDAR
