BEGIN:VCALENDAR
PRODID:-//eluceo/ical//2.0/EN
VERSION:2.0
CALSCALE:GREGORIAN
BEGIN:VEVENT
UID:c02b474a1f9a3540f2086eb2fc79bf1f
DTSTAMP:20260423T214107Z
SUMMARY:Vodík jako čistá a dostupná inovační energie pro průmysl a i
 nfrastrukturu
DESCRIPTION:Název akce: Vodík jako čistá a dostupná inovační energie
  pro průmysl a infrastrukturu\nURL: https://www.spcr.cz/vodik-jako-cista-
 dostupna-inovacni-energie-pro-prumysl-infrastrukturu\nPopis: \n\nPřijďte
  na seminář\, který uskuteční dne 20. října 2023 v prostorách DEIK
  (Foreign Economic Relations Board) v Istanbulu mezi 11. a 16. hodinou. P
 řítomni budou zástupci největších tureckých firem zaměřených na 
 vodík a zelené technologie. Za českou stranu se akce zúčastní národ
 ní zmocněnec pro vodík z MPaO ČR pan Petr Mervart.\nKontaktní osoba:
  \nJana Kostrounová\, Ph.D.Vice-ConsulPolitical AffairsConsulate General
  of the Czech RepublicAbdi Ipekci Cad. No 7134367\, Macka - Istanbultel.: 
 +90 212 368 80 34fax: +90 212 231 94 93GSM: +90 552 984 00 11www.mzv.cz/is
 tanbul\n
URL:https://www.spcr.cz/vodik-jako-cista-dostupna-inovacni-energie-pro-prum
 ysl-infrastrukturu
DTSTART:20231020T110000
DTEND:20231020T160000
LOCATION:
END:VEVENT
END:VCALENDAR
