BEGIN:VCALENDAR
PRODID:-//eluceo/ical//2.0/EN
VERSION:2.0
CALSCALE:GREGORIAN
BEGIN:VEVENT
UID:08fc36dba89a81a4ff70f8068eb7dadd
DTSTAMP:20260423T125131Z
SUMMARY:Výstava Česko pomáhá
DESCRIPTION:Název akce: Výstava Česko pomáhá\nURL: https://www.spcr.cz
 /vystava-cesko-pomaha\nPopis: \n\nZveme vás na výstavu zaměřenou na č
 eskou pomoc v zahraničí! Zajímá vás\, jak Česko pomáhá v rámci hu
 manitární pomoci\, rozvojové a transformační spolupráce? \nV úter
 ý 17. října v 16 hodin zahájí pan ministr Lipavský výstavu Česko p
 omáhá na Náplavce - Dvořákovo nábřeží.  Zveme všechny zájemce 
 k účasti na zahájení\, případně též k pozdější prohlídce výs
 tavy (potrvá do 6. listopadu)\n
URL:https://www.spcr.cz/vystava-cesko-pomaha
DTSTART:20231017T160000
DTEND:20231106T170000
LOCATION:
END:VEVENT
END:VCALENDAR
