BEGIN:VCALENDAR
PRODID:-//eluceo/ical//2.0/EN
VERSION:2.0
CALSCALE:GREGORIAN
BEGIN:VEVENT
UID:314eb911e79944498b502a67c0ed0f6f
DTSTAMP:20260423T150052Z
SUMMARY:Podnikatelská mise do Rumunska
DESCRIPTION:Název akce: Podnikatelská mise do Rumunska\nURL: https://www.
 spcr.cz/podnikatelska-mise-do-rumunska\nPopis: \n\nSvaz průmyslu a dopra
 vy ČR Vás zve k účasti v podnikatelské delegaci\, která bude doprov
 ázet předsedu Senátu Parlamentu ČR Miloše Vystrčila do Rumunska od
  21. do 23. listopadu 2023. Podnikatelskou misi za Svaz průmyslu a doprav
 y ČR povede člen představenstva Petr Jonák.\nCesta bude zahrnovat prac
 ovní program v Bukurešti a jednom vybraném městě. Ve spolupráci s Ve
 lvyslanectvím ČR v Bukurešti a místními podnikatelskými organizacem
 i budou plánována byznys fóra\, B2B networking/matchmaking a další do
 provodné programy\, které umožní navázání kontaktů s místním pod
 nikatelským prostředím.\nZáloha na úhradu nákladů pro 1 účastník
 a mise je pro členské firmy SP ČR 29.700\,- Kč (členy SP ČR a členy
  kolektivních členů SP ČR)\, pro nečlenské subjekty 33.000\,- Kč.\n
 Prioritními sektory pro tuto podnikatelskou misi jsou: obranný a bezpeč
 nostní sektor\, civilní obrana\, dopravní infrastruktura – smart citi
 es\, energetika a ICT.\nV případě zájmu o účast v této misi Vás 
 žádáme do čtvrtka 9. 11. 2023:\n\no vyplnění registračního form
 uláře\nzaslání skenu podepsané závazné přihlášky \na vzorovéh
 o snímku za Vaši organizaci k prezentaci na networkingových akcích (v
  angličitně)\nfotografii účastníka mise pro prezentaci v katalogu\nsk
 en datové stránky cestovního pasu\n\nKapacita mise je omezená. Svaz pr
 ůmyslu a dopravy ČR si vyhrazuje právo na výběr přihlášených čle
 nů mise dle volných kapacit či adekvátního zaměření této konkrét
 ní mise.\nV případě jakýchkoli nejasností či dotazů se na nás nev
 áhejte obrátit na email hkotkova@spcr.cz\n
URL:https://www.spcr.cz/podnikatelska-mise-do-rumunska
DTSTART:20231121T000000
DTEND:20231123T235959
LOCATION:
END:VEVENT
END:VCALENDAR
