BEGIN:VCALENDAR
PRODID:-//eluceo/ical//2.0/EN
VERSION:2.0
CALSCALE:GREGORIAN
BEGIN:VEVENT
UID:c4f2aeca4c6dd53e30d723b623c255b1
DTSTAMP:20260423T125849Z
SUMMARY:Conference on the Republic of Korea and Central Europe Cooperation
DESCRIPTION:Název akce: Conference on the Republic of Korea and Central Eu
 rope Cooperation\nURL: https://www.spcr.cz/conference-republic-korea-and-c
 entral-europe-cooperation\nPopis: \n\nZveme vás na konferenci „Republic
  of Korea and Central Europe Cooperation“\, kterou pořádá Centrum asi
 jských studií (CAS) ve spolupráci s Velvyslanectvím Korejské republik
 y v České republice\, Ústavem mezinárodních vztahů (ÚMV) a Fakultou
  mezinárodních vztahů VŠE.\nKonference proběhne v 25. října (10:00-
 15:20\, v prostorách rektorské zasedací místnosti\, 169 NB)\, na VŠE 
 v Praze. \nKonference bude probíhat v anglickém jazyce.\nVíce informac
 í a možnost registrace zde: https://cas.vse.cz/aktuality/25-10-2023-conf
 erence-on-the-republic-of-korea-and-central-europe-cooperation/\n
URL:https://www.spcr.cz/conference-republic-korea-and-central-europe-cooper
 ation
DTSTART:20231025T100000
DTEND:20231025T152000
LOCATION:
END:VEVENT
END:VCALENDAR
