BEGIN:VCALENDAR
PRODID:-//eluceo/ical//2.0/EN
VERSION:2.0
CALSCALE:GREGORIAN
BEGIN:VEVENT
UID:7d21f6de9816975cc6b291966f24b5ad
DTSTAMP:20260423T163304Z
SUMMARY:Jak bezpečně na Ukrajinu
DESCRIPTION:Název akce: Jak bezpečně na Ukrajinu\nURL: https://www.spcr.
 cz/jak-bezpecne-na-ukrajinu\nPopis: \n\nJAK BEZPEČNĚ NA UKRAJINU\n\n\n\n
 \n\n​Jaké možnosti a příležitosti mohou mít české firmy v rámci
  rekonstrukce Ukrajiny? Jak důležité je pro ně udržení či navázá
 ní nových obchodních vztahů s ukrajinskými odběrateli? A jaké nás
 troje nabízí stát?\n\n\n\n\nMísto konání: MSV 2023\, Pavilon P - Če
 ská národní expozice (stánek 9)\n\n\nDatum konání: Středa\, 11. Ř
 íjen 2023 - 9:15 to 10:00\n\nVíce informací: https://www.egap.cz/cs/jak
 -bezpecne-na-ukrajinu\n
URL:https://www.spcr.cz/jak-bezpecne-na-ukrajinu
DTSTART:20231011T091500
DTEND:20231011T100000
LOCATION:
END:VEVENT
END:VCALENDAR
