BEGIN:VCALENDAR
PRODID:-//eluceo/ical//2.0/EN
VERSION:2.0
CALSCALE:GREGORIAN
BEGIN:VEVENT
UID:a775f877923619ef58e7dca6f319a4b7
DTSTAMP:20260423T150144Z
SUMMARY:Odpadové hospodářství v praxi
DESCRIPTION:Název akce: Odpadové hospodářství v praxi\nURL: https://ww
 w.spcr.cz/odpadove-hospodarstvi-v-praxi\nPopis: \n\nZMĚNA MÍSTA\nSvaz pr
 ůmyslu a dopravy České republiky\, Okresní hospodářská komora Liber
 ec\, Spolek pro rozvoj lidských zdrojů Liberec a Krajská nemocnice Libe
 rec vás srdečně zvou na seminář Odpadové hospodářství v praxi 
 – novinky v legislativě EU a nakládání s průmyslovými a komunáln
 ími odpady.\nPřednáší\n\nRNDr. Miloš Kužvart (Česká asociace obě
 hového hospodářství)\nIng. Václav Kuncl (INISOFT Consulting s.r.o.)\n
 Ing. Markéta Miklasová (INISOFT Consulting s.r.o.)\n\nRámcový program 
 a o PŘEDNÁŠEJÍCÍCH V POZVÁNCE.\nRegistrujte se prosím pod tímto od
 kazem do 18. 10. 2023.\n \n \n
URL:https://www.spcr.cz/odpadove-hospodarstvi-v-praxi
DTSTART:20231024T100000
DTEND:20231024T140000
LOCATION:
END:VEVENT
END:VCALENDAR
