BEGIN:VCALENDAR
PRODID:-//eluceo/ical//2.0/EN
VERSION:2.0
CALSCALE:GREGORIAN
BEGIN:VEVENT
UID:0b5ed4ed3bdfc53b5d6c95b0c703a3e4
DTSTAMP:20260423T130412Z
SUMMARY:47. Bagdádský mezinárodní veletrh / Baghdad International Fair 
 — katalogová výstava
DESCRIPTION:Název akce: 47. Bagdádský mezinárodní veletrh / Baghdad In
 ternational Fair — katalogová výstava\nURL: https://www.spcr.cz/47-bag
 dadsky-mezinarodni-veletrh-baghdad-international-fair-katalogova-vystava\n
 Popis: \n\nSvaz průmyslu a dopravy ČR Vás zve k účasti na 47. Bagdá
 dském mezinárodním veletrhu / Baghdad International Fair formou katalog
 ové výstavy. \nVyužijte možnost zúčastnit se nejdůležitějšího 
 veletrhu v Iráku konaném od 10. do 19. ledna 2024 prostřednictvím pr
 ezentace vašich propagačních materiálů v rámci českého stánku na 
 tomto veletrhu. \nTzv. katalogová účast firmy bude obsahovat umístěn
 í vašich propagačních materiálů na českém stánku\, doplněnou o o
 sobní aktivní prezentaci vašich materiálů. Vaše propagační materi
 ály budou poté na českém stánku umístěny až do konce veletrhu. V p
 rvních dnech u veletrhu bude zástupce SP ČR na českém stánku repreze
 ntovat Vaši firmu a sbírat kontakty pro Vaši budoucí spolupráci s ir
 áckými firmami – pro tento účel budeme od vás potřebovat do 2. 1. 
 2024 dodání vašich propagačních materiálů na adresu SP ČR (leták
 ů\, či brožur v celkové váze do 3\,5 kg) a také vizitek\, včetně s
 pecifikace informací\, které byste rádi\, aby zástupce SP ČR za vaši
  firmu aktivně prezentoval.\nCena katalogové účasti na veletrhu je 5 0
 00 Kč bez DPH (pro členy SP ČR 10% sleva).\nV případě zájmu prosí
 me o vyplnění dotazníku do 20. 12. 2023.\nPro dotazy spojené s účas
 tí na veletrhu se prosím obracejte na Helenu Kotkovou: hkotkova@spcr.cz.
 \nInformace o veletrhu\nJedná se o nejdůležitější veletrh v Iráku\
 , o čemž svědčí údaje z minulého roku – přes 400 vystavovatelů
  ze 17 zemí\, obsazená výstavní plocha 18 500 m2 a 250 000 návštěv
 níků. Letos jsou očekávány ještě vyšší počty a zájem. Tento ve
 letrh je organizovaný State Company for Iraqi Fairs and Commercial Servic
 es pod patronátem Ministerstva obchodu Iráku. Veletrh je zaměřen na tr
 adiční obory\, které jsou pro projekty rekonstrukce a obnovy Iráku nez
 bytné a do kterých se již zapojili nebo hodlají zapojit i české subj
 ekty – energetika\, těžba a zpracování ropy a plynu\, vodní hospod
 ářství\, ekologie\, infrastruktura\, zdravotnictví\, zemědělství\, 
 stavebnictví\, školství\, IT a telekomunikace\, turistika\, bankovnictv
 í a pojišťovnictví\, spotřební průmysl atd.\nV Iráku se v posle
 dní době zlepšila bezpečnostní situace a podmínky pro život obyvate
 l\, čehož potvrzením je i opětovné pořádání veletrhů a výstav. 
 Účast České republiky a českých subjektů může aktivně přispět 
 k dalšímu rozvoji ekonomických vztahů mezi ČR a Irákem a současně
  i přinést nové kontakty a možnosti pro jednotlivá odvětví irácké
 ho hospodářství\, a to především díky získání kontaktů na zást
 upce iráckých státních institucí včetně ministerstev\, investorů\,
  státních i privátních společností.\nOdkaz na oficiální stránky v
 eletrhu\n
URL:https://www.spcr.cz/47-bagdadsky-mezinarodni-veletrh-baghdad-internatio
 nal-fair-katalogova-vystava
DTSTART:20240110T000000
DTEND:20240110T235959
LOCATION:
END:VEVENT
END:VCALENDAR
