BEGIN:VCALENDAR
PRODID:-//eluceo/ical//2.0/EN
VERSION:2.0
CALSCALE:GREGORIAN
BEGIN:VEVENT
UID:af2a4fcf50c29c6441b01349b2eb9362
DTSTAMP:20260423T125536Z
SUMMARY:Česko-moldavské podnikatelské fórum s následným B2B
DESCRIPTION:Název akce: Česko-moldavské podnikatelské fórum s následn
 ým B2B\nURL: https://www.spcr.cz/cesko-moldavske-podnikatelske-forum-s-na
 slednym-b2b\nPopis: \n\nSvaz průmyslu a dopravy ČR ve spolupráci s Mini
 sterstvem průmyslu a obchodu ČR a Invest Moldova Agency Vás zvou na Če
 sko-moldavské podnikatelské fórum a následné B2B jednání\, které p
 roběhne 16. října 2023 v sídle Ministerstva průmyslu a obchodu ČR (
 Na Františku 32\, Praha 1).\nRegistrace účastníků začne ve 14:00 hod
 . a začátek oficiálního programu bude v 14:30 hod. Skončení akce je 
 plánováno na 17:30 hod. \nProgram bude obsahovat oficiální přivítan
 í zástupci Ministerstva průmyslu a obchodu ČR\, Svazu průmyslu a dopr
 avy ČR a moldavské delegace. Následně bude účastníkům přiblížen
 a ekonomická situace a podnikatelské klima v Moldavsku a České republ
 ice a krátce na to zahájíme B2B jednání. Česko-moldavské podnikatel
 ské fórum ukončíme možnými závěrečnými prezidentskými proslovy:
  proslov HE Petra Pavla\, prezidenta České republiky a proslov HE Maiy S
 andu\, prezidentky Moldavské republiky. \nHlavními sektory\, na které 
 bude podnikatelské fórum zaměřeno jsou: energetika\, zpracování pot
 ravin\, zemědělství\, investice\, IT a mikroelektronika a turismus - d
 oporučuje se účast především firmám z těchto odvětví.\nRegistrac
 e na podnikatelské fórum a následné B2B jednání prosím proveďte c
 o možno nejdříve\, nejpozději 13.10.2023 na tomto linku:\nRegistrace
  na Česko-moldavské podnikatelské fórum\nJednacím jazykem bude angli
 čtina.\nPředběžný program fora je k dispozici zde.\n
URL:https://www.spcr.cz/cesko-moldavske-podnikatelske-forum-s-naslednym-b2b
DTSTART:20231016T140000
DTEND:20231016T173000
LOCATION:
END:VEVENT
END:VCALENDAR
