BEGIN:VCALENDAR
PRODID:-//eluceo/ical//2.0/EN
VERSION:2.0
CALSCALE:GREGORIAN
BEGIN:VEVENT
UID:30f20e2180b23af11b22a1bac3871db5
DTSTAMP:20260423T130518Z
SUMMARY:Duální vzdělávání v Česku - Jak ho vidí firmy a státní sp
 ráva? 
DESCRIPTION:Název akce: Duální vzdělávání v Česku - Jak ho vidí fi
 rmy a státní správa? \nURL: https://www.spcr.cz/dualni-vzdelavani-v-ces
 ku-jak-ho-vidi-firmy-statni-sprava\nPopis: \n\nSvaz průmyslu a dopravy Č
 R vás zve na konferenci k duálnímu vzdělávání. Konference se může
 te zúčastnit fyzicky i on-line.\nProgram\n9:00 – 9:05       Zahá
 jení konference\, Miloš Rathouský\, Svaz průmyslu a dopravy ČR\n9:05
  – 9:35        Analýza legislativního ukotvení duálního vzdě
 lávání v ČR + krátká diskuze\, Vojtěch Hofírek\, Kateřina Kupcov
 á\, Forlex AK\n9:35 – 10:05     Plánované legislativní ukotvení
  duálního vzdělávání v ČR z pohledu MŠMT + krátká diskuze\, P
 etr Bannert\, Ministerstvo školství mládeže a tělovýchovy\n10:05 –
  10:35   Projekt P-Tech – Technologie pro digitální budoucnost + krá
 tká diskuze\, Klára Polášková\, Svaz průmyslu a dopravy ČR\n10:35 
 – 10:55   Přestávka\n10:55 – 11:25   Spolupráce firem a školy z
  pohledu firmy + krátká diskuze\, Martin Hlisnikovský\, Brose CZ spol
 . s r.o.\n11:25 – 11:55   Spolupráce firem a škol z pohledu školy +
  krátká diskuze\, Jaromír Macháček\, Vítkovická střední průmyslo
 vá škola Ostrava\n11:55 – 12:00   Ukončení\nRegistrace\n\nRegistruj
 te se prosím přes on-line formulář do 23. října. Při registraci si 
 můžete vybrat\, zda se konference zúčastníte osobně nebo se připoj
 íte on-line.\n\nKontakt\n\nV případě dotazů se prosím obraťte na M
 iloše Rathouského (e-mail: mrathousky@spcr.cz\, tel: 734 641 044).\n
URL:https://www.spcr.cz/dualni-vzdelavani-v-cesku-jak-ho-vidi-firmy-statni-
 sprava
DTSTART:20231025T090000
DTEND:20231025T120000
LOCATION:
END:VEVENT
END:VCALENDAR
