BEGIN:VCALENDAR
PRODID:-//eluceo/ical//2.0/EN
VERSION:2.0
CALSCALE:GREGORIAN
BEGIN:VEVENT
UID:b753a85a8ea736183e9dbc919b560ed3
DTSTAMP:20260423T125059Z
SUMMARY:Expanze a investice v Rakousku
DESCRIPTION:Název akce: Expanze a investice v Rakousku\nURL: https://www.s
 pcr.cz/expanze-investice-v-rakousku\nPopis: \n\nJe Vaše společnost přip
 ravena na další expanzi ve střední Evropě?\nPak je pro Vás Rakousko 
 tou správnou volbou!\nSrdečně Vás zveme na expertní setkání Expanz
 e a investice v Rakousku (mimo jiné se zaměřením na spolkovou zemi Do
 lní Rakousko):\nProgram a registrace: webová stránka akce s online re
 gistrací\nČekají Vás individuální diskuze s rakouskými odborníky\
 , informace o možnostech financování a zahájení podnikání v Rakousk
 u. Inspirujte se zkušenostmi zástupců českých společností v Rakousk
 u. Samozřejmě bude také čas na navazování kontaktů. Účast na akci
  je bezplatná.\nTěšíme se na Vaši registraci!\n
URL:https://www.spcr.cz/expanze-investice-v-rakousku
DTSTART:20231018T160000
DTEND:20231018T180000
LOCATION:
END:VEVENT
END:VCALENDAR
