BEGIN:VCALENDAR
PRODID:-//eluceo/ical//2.0/EN
VERSION:2.0
CALSCALE:GREGORIAN
BEGIN:VEVENT
UID:2e3c68faab46b00bbbf3ea4d5c774344
DTSTAMP:20260423T162642Z
SUMMARY:Nástroje EU\, které vám usnadní obchodovat se zahraničím - MS
 V 2023
DESCRIPTION:Název akce: Nástroje EU\, které vám usnadní obchodovat se 
 zahraničím - MSV 2023\nURL: https://www.spcr.cz/nastroje-eu-ktere-vam-us
 nadni-obchodovat-se-zahranicim-msv-2023\nPopis: \n\nDovolujeme si Vás poz
 vat na seminář pořádaný Ministerstvem průmyslu a obchodu "Nástroje 
 EU\, které vám usnadní obchodovat se zahraničím".\nSeminář se uskut
 eční v rámci Mezinárodního strojírenského veletrhu v Brně dne 10. 
 10. v 15:45h v rámci České národní expozice (pouze prezenční for
 mou) v pavilonu P\, stánek č. 9.\nV rámci akce se dozvíte užitečné
  informace např. o dohodách o volném obchodu EU a jejich výhodách\, a
  to i v souvislosti s digitalizací. Zjistíte také\, jak funguje mechani
 smus pozastavení cel na dovozy vstupů do výroby do EU\, a představíme
  Vám portál Access2Markets\, který firmám pomáhá se zorientovat v z
 áležitostech a podmínkách při obchodování se zeměmi mimo EU.\nVaš
 i účast prosím potvrďte nejdéle do 5. 10.\, registrační formulář 
 naleznete zde.\nV případě jakýchkoli dotazů ohledně semináře se ne
 váhejte obrátit na Pavlínu Shaw (shaw@mpo.cz) nebo Natálii Havlíkovou
  (havlikova@mpo.cz).\n
URL:https://www.spcr.cz/nastroje-eu-ktere-vam-usnadni-obchodovat-se-zahrani
 cim-msv-2023
DTSTART:20231010T154500
DTEND:20231010T235959
LOCATION:
END:VEVENT
END:VCALENDAR
