BEGIN:VCALENDAR
PRODID:-//eluceo/ical//2.0/EN
VERSION:2.0
CALSCALE:GREGORIAN
BEGIN:VEVENT
UID:c5035ab79900df200d1e1ae90c5808f1
DTSTAMP:20260423T163124Z
SUMMARY:Jádro - Nové jaderné zdroje 
DESCRIPTION:Název akce: Jádro - Nové jaderné zdroje \nURL: https://www.
 spcr.cz/jadro-nove-jaderne-zdroje\nPopis: \n\nPřipravili jsme pro vás pe
 strou škálu témat\, která reflektují aktuální výzvy a trendy v obl
 asti jaderných zdrojů a budou se věnovat tolik významnému tématu\, k
 terým je dostavba a rozšíření jaderných elektráren Dukovany a Temel
 ín\, stavu a připravenosti českého průmyslu.\nProč se zúčastnit ko
 nference?\n1. Podpora českého průmyslu2. Podpora rozšíření jaderné
  elektrárny Temelín a Dukovany3. Podpora českých technologických a st
 avebních firem.\nVíce o konferenci a registrace\n \n
URL:https://www.spcr.cz/jadro-nove-jaderne-zdroje
DTSTART:20231003T090000
DTEND:20231003T160000
LOCATION:
END:VEVENT
END:VCALENDAR
