BEGIN:VCALENDAR
PRODID:-//eluceo/ical//2.0/EN
VERSION:2.0
CALSCALE:GREGORIAN
BEGIN:VEVENT
UID:3bab1ff1a0378460d32f59b3dcbc389d
DTSTAMP:20260423T162828Z
SUMMARY:Nakládaní s odpady – novinky v legislativě\, sankce
DESCRIPTION:Název akce: Nakládaní s odpady – novinky v legislativě\, 
 sankce\nURL: https://www.spcr.cz/nakladani-s-odpady-novinky-v-legislative-
 sankce\nPopis: \n\nSvaz průmyslu a dopravy České republiky Vás srdečn
 ě zve na seminář Nakládaní s odpady – novinky v legislativě\, sank
 ce. \nNa semináři přednáší JUDr. Hana Dvořáková\, MBA – Ředit
 elka odboru výkonu státní správy II z Ministerstva životního prostř
 edí. Absolventka Právnické fakulty Univerzity Karlovy v Praze. Lektorsk
 ou činnost vyvíjí zejména ve vzdělávacích institucích zaměřenýc
 h na vzdělávání osob působících v obecní či krajské samosprávě
  a státní správě. Je zkušební komisařkou pro zvláštní část zko
 ušky odborné způsobilosti pro výkon správní činnosti v hospodařen
 í s odpady a nakládání s obaly.\nRÁMCOVÝ PROGRAM\nPrezence\, občers
 tvení\nZahájení\n1. část\n\nLegislativa v oblasti nakládání s odpa
 dy\nPřechodná období a novinky od 1. 1. 2023\nOdpad\, vedlejší výrob
 ek a ukončení odpadového režimu\nZákladní povinnosti\, povinnosti p
 ůvodce a provozovatele zařízení\nPovinnosti v rámci jednotlivých zp
 ůsobů nakládání s odpady\nVybrané druhy odpadů a nakládání s nim
 i - nebezpečné odpady\, komunální odpady\, atd.\nPrůběžná evidence
  a ohlašovací povinnosti\n\n2. část\n\nNakládání s odpady z pohledu
  administrativy (povolení\, souhlasy\, závazná stanoviska)\nKontrola do
 držování zákona z pohledu kontrolované osoby\nDotazy a diskuze\n\nČA
 SOVÝ HARMONOGRAM\n\n10:30 – 11:00 prezence účastníků\n11:00 – 12:
 30 zahájení\, seminář 1. část\n12:30 – 12:50 pauza\, občerstvení
 \n12:50 – 14:00 seminář 2. část\, dotazy\, diskuze\n\nRegistrujte se
  pod tímto odkazem do 18. 10. 2023.\nV případě dotazů se prosím obra
 ťte na organizátora akce Kateřinu Budínkovou – tel: 733 643 513\, n
 a e-mail: kbudinkova@spcr.cz\n
URL:https://www.spcr.cz/nakladani-s-odpady-novinky-v-legislative-sankce
DTSTART:20231024T110000
DTEND:20231024T140000
LOCATION:
END:VEVENT
END:VCALENDAR
