BEGIN:VCALENDAR
PRODID:-//eluceo/ical//2.0/EN
VERSION:2.0
CALSCALE:GREGORIAN
BEGIN:VEVENT
UID:ccc63203b8bcc05d82d7d5bf6d8df273
DTSTAMP:20260423T125530Z
SUMMARY:Podnikatelská mise do Indie 
DESCRIPTION:Název akce: Podnikatelská mise do Indie \nURL: https://www.sp
 cr.cz/podnikatelska-mise-do-indie\nPopis: \n\nMinisterstvo průmyslu a obc
 hodu ČR a Svaz průmyslu a dopravy ČR Vás zvou k účasti v podnikate
 lské delegaci\, která bude doprovázet ministra průmyslu a obchodu Joz
 efa Síkelu do Indie ve dnech 3. 12. - 8. 12. 2023.Podnikatelskou misi za
  Svaz průmyslu a dopravy ČR povede viceprezident Radek Špicar.\nHarmono
 gram cesty\, v rámci které delegace navštíví oblasti Dillí\, Mumbaje
  a Pune\, bude zahrnovat byznys fóra a B2B networking/matchmaking v Dill
 í a Mumbaji\, ale také prohlídky závodů Škoda Auto India v Puně (s 
 následným business setkáním) a další doprovodné programy\, které 
 umožní navázání kontaktů s místním podnikatelským prostředím a 
 zároveň pochopení jeho specifik.\nPrioritními sektory pro tuto podnika
 telskou misi jsou: obrana\, průmysl\, energetika\, elektronika a informa
 ční technologie\, civilní letectví\, strojírenství\, obnovitelné zd
 roje energie a environmentální technologie.\n\n\nV případě zájmu o 
 účast na misi Vás žádáme o vyplnění formuláře v odkazu: závaz
 ná registrace do 17. 11. 2023.Součástí registrace je vyplnění a zasl
 ání závazné přihlášky.\nUpozorňujeme na nutnost vybavení víza do
  Indie\, s kterým účastníkům mise pomohou pracovníci SP ČR.\nKapaci
 ta mise je omezená\, Ministerstvo průmyslu a obchodu ČR a Svaz průmysl
 u a dopravy ČR si vyhrazují právo na výběr přihlášených členů m
 ise dle volných kapacit či adekvátního zaměření této konkrétní m
 ise. Žádáme proto o pečlivé a detailní vyplnění všech částí f
 ormuláře. Informace poskytnuté v tomto formuláři budou brány na zř
 etel při rozhodnutí o zařazení daného subjektu do podnikatelské dele
 gace.\nV případě jakýchkoliv dotazů kontaktujte Ing. Martina Natafal
 ušiho\, manažera vnějších vztahů SP ČR\, na mnatafalusi@spcr.cz. 
  \n
URL:https://www.spcr.cz/podnikatelska-mise-do-indie
DTSTART:20231203T080000
DTEND:20231208T170000
LOCATION:
END:VEVENT
END:VCALENDAR
