BEGIN:VCALENDAR
PRODID:-//eluceo/ical//2.0/EN
VERSION:2.0
CALSCALE:GREGORIAN
BEGIN:VEVENT
UID:1e67874bdeaf370389a054807d9247af
DTSTAMP:20260423T124850Z
SUMMARY:CEE Automotive Supply Chain 2023
DESCRIPTION:Název akce: CEE Automotive Supply Chain 2023\nURL: https://www
 .spcr.cz/cee-automotive-supply-chain-2023\nPopis: \n\nCEE Automotive Suppl
 y Chain kombinuje konferenci\, networking a organizovaná B2B setkání. A
 kce je určena pro dodavatele a subdodavatele automobilového průmyslu a 
 v roce 2022 se jí zúčastnilo více než 300 delegátů ze 17 různých 
 zemí.Sdružení automobilového průmyslu České a Slovenské republiky 
 jako organizátoři spolu s dalšími partnery jsou zárukou kvalitního p
 rogramu konference a velkého počtu účastníků ze všech úrovní doda
 vatelského řetězce. Využijte příležitosti setkat se a navázat spol
 upráci s předními představiteli automobilového průmyslu nejen z regi
 onu V4.Svou účast na akci již potvrdili Martin Jahn – člen představ
 enstva za oblast prodeje a marketingu ve Škoda Auto\, prezident Sdružen
 í automobilového průmyslu a viceprezident Svazu průmyslu a dopravy ČR
 \, Alexander Matušek – prezident Zväzu automobilového priemyslu Slove
 nskej republiky\, Robert Kiml – viceprezident pro výrobu v Toyota Motor
  Manufacturing Czech Republic a viceprezident Sdružení automobilového p
 růmyslu\, Petr Michník – vedoucí administrativního oddělení Hyunda
 i Motor Manufacturing Czech s.r.o.\, Petr Novák – ředitel divize autom
 otive v JTEKT European Operations a předseda Divize dodavatelů a účelo
 vých organizací ve Sdružení automobilového průmyslu\, Lukáš Rosůl
 ek – ředitel Vitesco Technologies Česká republika a řada dalších. 
 Více informací a registrace zde.\nČlenové SP ČR mohou uplatnit 10% sl
 evu z ceny vstupenky pomocí promocode: PC1023CASCň\n
URL:https://www.spcr.cz/cee-automotive-supply-chain-2023
DTSTART:20231024T000000
DTEND:20231025T235959
LOCATION:
END:VEVENT
END:VCALENDAR
