BEGIN:VCALENDAR
PRODID:-//eluceo/ical//2.0/EN
VERSION:2.0
CALSCALE:GREGORIAN
BEGIN:VEVENT
UID:2526a8a0294ad368096180b3722618fa
DTSTAMP:20260423T125059Z
SUMMARY:Doing Business in Japan
DESCRIPTION:Název akce: Doing Business in Japan\nURL: https://www.spcr.cz/
 doing-business-japan\nPopis: \n\nSeminář proběhne 11. října 2023 od1
 2:30 do13:30 hodin v rámci České národní expozice (pavilon P\, stáne
 k č. 9 ) na Mezinárodním strojírenském veletrhu v Brně. Zaměří se
  na specifika teritoria\, investiční a obchodní příležitosti a EXPO 
 Ósaka.\nInvitation\nREGISTRACE\n\nRegistrujte se prosím zde.\n\nProgram\
 n12:30 Opening remarks\n\n  TBC\, Ministry of Industry and Trade of the C
 zech Republic\n  TBC\, Confederation of Industry of the Czech Republic\n\
 n12:35 Japan as a business destination\n\n  Richard Schneider\, Director\
 , CzechTrade Office in Osaka\n\n12:50 EXPO Ósaka 2025\n\nOndřej Soška\,
  Commissioner General\, Expo 2025 Osaka\n\n13:05 Investment opportunities 
 in Japan\n\nGo Shimuta\, Director General\, JETRO Prague\n\n13:15 Business
  opportunities in Japan\n\nAlice Tomášková\, Director of Czech Branch\,
  CCCIJ\n\n13:30 End of the event\nProgram\n \n \n
URL:https://www.spcr.cz/doing-business-japan
DTSTART:20231011T123000
DTEND:20231011T133000
LOCATION:
END:VEVENT
END:VCALENDAR
