BEGIN:VCALENDAR
PRODID:-//eluceo/ical//2.0/EN
VERSION:2.0
CALSCALE:GREGORIAN
BEGIN:VEVENT
UID:47a417ffdfdd80896937298bc20f80f3
DTSTAMP:20260423T145750Z
SUMMARY:New Energy Vehicles Export Expo in Guangzhou
DESCRIPTION:Název akce: New Energy Vehicles Export Expo in Guangzhou\nURL:
  https://www.spcr.cz/new-energy-vehicles-export-expo-guangzhou\nPopis: \n\
 nGuangzhou Association of Automobile Manufacturers (GAAM) sets to host the
  New Energy Vehicle Export Expo (NEVE)\, the first of its kind\, from Octo
 ber 14 to 18\, 2023\, in Lingan Innovation Expo Center in Guangzhou. It is
  hoped that NEVE 2023 will help promote the global agendas of automobile m
 anufacturers in Guangzhou\, creating opportunities for cooperation with ov
 erseas investors and businesses.\nInvitation letter in English here. \nCo
 ntact person: \nWang XiaodanSecretary of GAAM\, Guangdong\, ChinaEmail: g
 zqx001@126.com\; 53941749@qq.comTel: +8613826064182\n
URL:https://www.spcr.cz/new-energy-vehicles-export-expo-guangzhou
DTSTART:20231014T000000
DTEND:20231018T235959
LOCATION:
END:VEVENT
END:VCALENDAR
