BEGIN:VCALENDAR
PRODID:-//eluceo/ical//2.0/EN
VERSION:2.0
CALSCALE:GREGORIAN
BEGIN:VEVENT
UID:38efa8e94b3f86304d6b43583ddd2cb4
DTSTAMP:20260423T094704Z
SUMMARY:Příležitosti pro české firmy na trzích Japonska\, Tchaj-wanu 
 a Jižní Koreje
DESCRIPTION:Název akce: Příležitosti pro české firmy na trzích Japon
 ska\, Tchaj-wanu a Jižní Koreje\nURL: https://www.spcr.cz/prilezitosti-p
 ro-ceske-firmy-na-trzich-japonska-tchaj-wanu-jizni-koreje\nPopis: \n\nDovo
 lujeme si Vás pozvat na seminář o aktuálních podnikatelských příle
 žitostech na trzích Japonska\, Tchaj-wanu a Jižní Koreje v úterý 31.
  října 2023 od 10 hodin v Praze. Příležitosti v podnikání budou pre
 zentovat Ondřej Svoboda\, ekonomický diplomat Velvyslanectví ČR v Toki
 u a Kateřina Heinischová\, ekonomická diplomatka z České ekonomické 
 a kulturní kanceláře v Taipei. Online se připojí Jakub Kopecký\, ved
 oucí obchodně-ekonomického úseku Velvyslanectví ČR v Soulu a Marie L
 eflerová\, vědecká diplomatka z České ekonomické a kulturní kancel
 áře v Taipei. Na seminář v Praze je nutná rezervace předem na email
 u AkceOED@mzv.cz.\nVíce informací zde.\n
URL:https://www.spcr.cz/prilezitosti-pro-ceske-firmy-na-trzich-japonska-tch
 aj-wanu-jizni-koreje
DTSTART:20231031T100000
DTEND:20231031T235959
LOCATION:
END:VEVENT
END:VCALENDAR
