BEGIN:VCALENDAR
PRODID:-//eluceo/ical//2.0/EN
VERSION:2.0
CALSCALE:GREGORIAN
BEGIN:VEVENT
UID:8f72a1b8e6197c388406628e6892803d
DTSTAMP:20260423T174205Z
SUMMARY:Indonesia-Europe Business Forum (IEBF) 2023” and “Trade Expo In
 donesia (TEI)
DESCRIPTION:Název akce: Indonesia-Europe Business Forum (IEBF) 2023” and
  “Trade Expo Indonesia (TEI)\nURL: https://www.spcr.cz/indonesia-europe-
 business-forum-iebf-2023-and-trade-expo-indonesia-tei\nPopis: \n\nDovoluje
 me si Vás informovat\, že ve dnech 18. - 22. října 2023 bude Ministers
 tvo obchodu Indonéské republiky hostit 38. TRADE EXPO INDONESIA (TEI) na
  téma UDRŽITELNÝ OBCHOD PRO GLOBÁLNÍ EKONOMICKOU ODOLNOST. Výstava j
 e plně podporována indonéskou vládou\, Indonéskou obchodní a průmys
 lovou komorou a Indonéským sdružením mladých podnikatelů. Svou úča
 st potvrdilo více než 200 společností z celé Indonésie a očekávám
 e\, že se tohoto veletrhu zúčastní více než 400 společností z cel
 ého světa.\nSeznam vystavovatelů naleznete na tomto odkazu: https://www
 .tradexpoindonesia.com/attending/exhibitors-products-profile/ \nPokud byst
 e měli zájem zúčastnit se 38. TEI\, je možné zúčastnit se také ak
 ce Indonesia-Europe Business Forum  (IEBF) 2023: Optimalizace podnikatelsk
 é příležitosti Indonésie-Evropa na podporu udržitelného a inkluzivn
 ího hospodářského rozvoje. IEBF 2023 je nastavena tak\, aby maximalizo
 vala vaši účast na 38. TEI a poskytla vám šanci na hlubší zapojení
  se svými potenciálními obchodními partnery.\nÚstředním bodem této
  akce budou odvětvové strategie\, které zahrnují investice a obchod v 
 navazujícím průmyslu\, zelené a digitální ekonomice a dalších rele
 vantních sektorech\, které jsou v souladu s potenciálem a příležitos
 tmi nabízenými evropskými partnery. IEBF 2023 se bude konat v Ritz Carl
 ton Mega Kuningan Jakarta ve dnech 17. - 18. října 2023. Velvyslanectví
  Indonéské republiky v Praze vám k těmto dvěma akcím rádo poskytne 
 veškeré potřebné informace. \nPro další dotazy nás prosím kontaktu
 jte na embassy@indonesia.cz\nPozvánka k dispozici zde. \n
URL:https://www.spcr.cz/indonesia-europe-business-forum-iebf-2023-and-trade
 -expo-indonesia-tei
DTSTART:20231018T080000
DTEND:20231022T235959
LOCATION:
END:VEVENT
END:VCALENDAR
