BEGIN:VCALENDAR
PRODID:-//eluceo/ical//2.0/EN
VERSION:2.0
CALSCALE:GREGORIAN
BEGIN:VEVENT
UID:784a08049fcc66c56317db6eef6e489a
DTSTAMP:20260423T163005Z
SUMMARY:Podpora exportu zboží a služeb na Ukrajinu „Úspěšná obnova
 “
DESCRIPTION:Název akce: Podpora exportu zboží a služeb na Ukrajinu „
 Úspěšná obnova“\nURL: https://www.spcr.cz/podpora-exportu-zbozi-sluz
 eb-na-ukrajinu-uspesna-obnova\nPopis: \n\nHospodářská komora ČR a Svaz
  průmyslu a dopravy ČR vás zvou na kulatý stůl k tématu obnovy Ukraj
 iny.\nI přes přetrvávající konflikt se potřeby Ukrajiny vyvíjejí s
 měrem od naléhavé humanitární pomoci ke stabilizaci a obnově. Česk
 á republika je aktivní od samého začátku a má zájem i nadále zůst
 at jedním z hlavních a ceněných partnerů Ukrajiny. Česká vláda sch
 válila program\, který může významně přispět k širšímu zapojen
 í našich firem do aktuální pomoci i její obnovy. Jaké jsou možnosti
  a šance na účast v tomto procesu?\nAkci moderuje prezident Hospodářs
 ké komory ČR Zdeněk Zajíček.\nPROGRAM KULATÉHO STOLU\n\n15:00 – 15
 :15     Zdeněk Zajíček (prezident HK ČR): Zahájení\, prezentace p
 růzkumu o zájmu českých firem o poválečnou obnovu Ukrajiny a aktuál
 ní limity pro jejich širší zapojení\n15:15 – 15:30     Lukáš M
 artin (ředitel sekce mezinárodních vztahů SP ČR): Potřeby firem z Č
 eské republiky v rámci zapojení do poválečné obnovy Ukrajiny\n15:30 
 – 15:45     David Müller (vrchní ředitel sekce Evropské unie a za
 hraničního obchodu MPO ČR): Podpora vývozu zboží a služeb na Ukraji
 nu. Aktuální informace o probíhajících a plánovaných akcích\n15:45
  – 16:00     David Havlíček (předseda představenstva EGAP): Souč
 asná situace v pojišťování vývozu na Ukrajinu a uvažované zámě
 ry do budoucna\n16:00 – 16:20     Zkušenosti firem s exportem na Ukr
 ajinu\n16:20 – 16:50     Prostor pro otázky a diskusi\n16:50 – 17:
 00     Závěr\n\nREGISTRACE\n\nPočet míst je omezen. Svou účast\, 
 prosím\, potvrďte do 21. září 2023 ZDE.\n
URL:https://www.spcr.cz/podpora-exportu-zbozi-sluzeb-na-ukrajinu-uspesna-ob
 nova
DTSTART:20230926T150000
DTEND:20230926T170000
LOCATION:
END:VEVENT
END:VCALENDAR
