BEGIN:VCALENDAR
PRODID:-//eluceo/ical//2.0/EN
VERSION:2.0
CALSCALE:GREGORIAN
BEGIN:VEVENT
UID:db5b22f0b402d57873bd4cc894589f07
DTSTAMP:20260423T172433Z
SUMMARY:Sklářské svítání
DESCRIPTION:Název akce: Sklářské svítání\nURL: https://www.spcr.cz/s
 klarske-svitani-1\nPopis: \n\nMuzeum skla a bižuterie v Jablonci nad Niso
 u a Svaz průmyslu a dopravy ČR Vás zvou na 10. ročník diskusního set
 kání Sklářské svítání 2023. Konference za účasti špičkových o
 dborníků ze sklářského průmyslu je součástí programu Trienále Ja
 blonec 2023. \nPondělí 16. 10. 2023\, od 13.00\nTéma: Udržitelnost ve 
 sklářství\nKde: Muzeum skla a bižuterie v Jablonci nad NisouU Muzea 39
 8/4\, 466 01 Jablonec nad Nisou\nKapacita sálu je omezena.K účasti je n
 utno se předem registrovat do 10. října.\nProgram:Vyhlášení výsledk
 ů soutěže Master of Crystal 2023\n1. Blok přednášek\n\nRadek Špicar
 \, Svaz průmyslu a dopravy ČR\nEduard Muřický\, Ministerstvo průmyslu
  a obchodu ČR\nJan Štiller\, Preciosa a.s.\nLeon Jakimič\, Lasvit\nVlas
 timil Hotař\, Technická univerzita Liberec\n\nCofee break\n2. Blok před
 nášek\n\nRobert Halama\, značka Halama\nPetr Červený\, Floriánova hu
 ť Častolovice u České Lípy\nZdeněk Kunc\, KUNC Glass\nPetra Handlí
 řová\, Agentura pro regionální rozvoj Libereckého kraje\n\nNa závěr
  každého bloku proběhne diskuze.\nProgram včetně pozvánky naleznete 
 také zde.\nVolná prohlídka muzea pro registrované účastníky – od 
 12 hodin a po skončení oficiálního programu.\nTěšíme se na společn
 é setkání!\n
URL:https://www.spcr.cz/sklarske-svitani-1
DTSTART:20231016T130000
DTEND:20231016T235959
LOCATION:
END:VEVENT
END:VCALENDAR
