BEGIN:VCALENDAR
PRODID:-//eluceo/ical//2.0/EN
VERSION:2.0
CALSCALE:GREGORIAN
BEGIN:VEVENT
UID:98759c153b4bfb7e6978f44735eb160d
DTSTAMP:20260423T145924Z
SUMMARY:Podnikatelská mise s prezidentem republiky do Itálie 
DESCRIPTION:Název akce: Podnikatelská mise s prezidentem republiky do It
 álie \nURL: https://www.spcr.cz/podnikatelska-mise-s-prezidentem-republi
 ky-do-italie\nPopis: \n\nSvaz průmyslu a dopravy ČR Vás zve k účasti
  v podnikatelské delegaci vedené prezidentem SP ČR Janem Rafajem\, kte
 rá bude doprovázet prezidenta republiky Petra Pavla na jeho oficiální 
 návštěvě Itálie v posledním listopadovém týdnu. Dvoudenní pracov
 ní cesta bude směřovat do Říma a Milána.\nHarmonogram cesty bude zah
 rnovat byznys fóra a B2B networking/matchmaking v obou navštívených m
 ěstech a další doprovodný program\, který umožní prohloubení konta
 ktů a stávající spolupráci s místním podnikatelským prostředím.
  Harmonogram celé cesty je ve fázi přípravy. KPR ČR a SP ČR si vyhra
 zují právo na případné změny\, které budou účastníkům včas kom
 unikovány.\n\nÚčast v této podnikatelské misi je určena pro firmy a
  organizace\, které již v Itálii mají investice a aktivity\, či zač
 ínají nové konkrétní projekty. Mise je určena pro firmy a start-upy 
 ze sektoru letectví\, energetiky\, obrany\, dopravy\, vč. smart cities a
  space. Účast je doporučena také organizacím z oblasti vědy\, výzk
 umu a inovací\, spojených především se zelenou a digitální transfor
 mací.\nV případě zájmu o účast v této misi Vás žádáme o vypln
 ění formuláře na tomto odkazu do středy 8. 11. 2023.\nKapacita mise
  je omezená. Kancelář prezidenta republiky ČR a Svaz průmyslu a dopra
 vy ČR si vyhrazují právo na výběr přihlášených členů mise dle v
 olných kapacit či adekvátního zaměření této konkrétní mise. Žá
 dáme proto o pečlivé a detailní vyplnění všech částí formuláře
 . Informace poskytnuté v tomto formuláři budou brány na zřetel při 
 rozhodnutí o zařazení daného subjektu do podnikatelské delegace. Ve f
 ormuláři můžete také indikovat Váš zájem se pouze přidat k progra
 mu v Římě\, či v Miláně\, za podmínky vlastního zajištění dopra
 vy.\nV případě jakýchkoliv dotazů kontaktujte Ing. Ivanu Javorovou\,
  manažerku vnějších vztahů SP ČR\, na ijavorova@spcr.cz. \n
URL:https://www.spcr.cz/podnikatelska-mise-s-prezidentem-republiky-do-itali
 e
DTSTART:20231127T000000
DTEND:20231129T235959
LOCATION:
END:VEVENT
END:VCALENDAR
