BEGIN:VCALENDAR
PRODID:-//eluceo/ical//2.0/EN
VERSION:2.0
CALSCALE:GREGORIAN
BEGIN:VEVENT
UID:dd503416c9b5b6464d7d5c7c8dcb35a6
DTSTAMP:20260423T163342Z
SUMMARY:Funding innovation and growth in Czechia
DESCRIPTION:Název akce: Funding innovation and growth in Czechia\nURL: htt
 ps://www.spcr.cz/funding-innovation-and-growth-czechia\nPopis: \n\nPražsk
 á kancelář skupiny EIB a Svaz průmyslu a dopravy ČR si Vás dovolují
  pozvat na konferenci Funding innovation and growth in Czechia – Busine
 ss Breakfast. \nInovace firem a jejich schopnost rozšiřovat výrobu nov
 ých výrobků a služeb jsou hnací silou hospodářského růstu. Jsou n
 ezbytné v Česku\, jehož ekonomika konkuruje globálnímu trhu a je pod 
 tlakem přizpůsobení v souvislosti s přechodem na zelené a digitální
  technologie. Tato akce se zabývá tím\, jak lze v Česku snadněji roz
 šiřovat inovace. Setkávají se na ní fondy rizikového a soukromého k
 apitálu\, inovativní firmy\, které se již rozšířily nebo by se rád
 y rozšířily\, a rozhodující činitelé z politické sféry.\nSetkán
 í přiblíží výsledky investičního průzkumu EIB mezi firmami a jeji
 ch investičními potřebami a překážkami a prozkoumá možnosti a př
 íležitosti financování inovací a růstu v Česku.\nK potvrzení Vaš
 í účasti se zaregistrujte zde co nejdříve\, nejlépe do 16. října. 
 V případě jakýchkoli dotazů se prosím obraťte na prague@eib.org. Ja
 zykem akce je angličtina.\n Official Invitation\n
URL:https://www.spcr.cz/funding-innovation-and-growth-czechia
DTSTART:20231024T083000
DTEND:20231024T110000
LOCATION:
END:VEVENT
END:VCALENDAR
