BEGIN:VCALENDAR
PRODID:-//eluceo/ical//2.0/EN
VERSION:2.0
CALSCALE:GREGORIAN
BEGIN:VEVENT
UID:bdfdfcf83aa92c0e1efbe0d6188b980e
DTSTAMP:20260423T162941Z
SUMMARY:Access2Markets Live Training Seminar
DESCRIPTION:Název akce: Access2Markets Live Training Seminar\nURL: https:/
 /www.spcr.cz/access2markets-live-training-seminar-0\nPopis: \n\nNeed some 
 help navigating our trade portal Access2Markets? No problem\, we've got yo
 u just the training for you!\nOnline event\; 10:00 - 12:00 (CET)\; Registr
 ation closes on 25/09/2023 at 12:00\nRegistration link: https://ec.europa
 .eu/eusurvey/runner/A2MSeminarSeptember2023\n
URL:https://www.spcr.cz/access2markets-live-training-seminar-0
DTSTART:20230926T100000
DTEND:20230926T120000
LOCATION:
END:VEVENT
END:VCALENDAR
