BEGIN:VCALENDAR
PRODID:-//eluceo/ical//2.0/EN
VERSION:2.0
CALSCALE:GREGORIAN
BEGIN:VEVENT
UID:e9d0a4346d4e3da0b07a633d27f9d895
DTSTAMP:20260423T145806Z
SUMMARY:Česko-tuniské podnikatelské fórum s následným B2B
DESCRIPTION:Název akce: Česko-tuniské podnikatelské fórum s následný
 m B2B\nURL: https://www.spcr.cz/cesko-tuniske-podnikatelske-forum-s-nasled
 nym-b2b\nPopis: \n\nSvaz průmyslu a dopravy ČR Vás zve na Česko-tunisk
 é podnikatelské fórum a následné B2B jednání\, které proběhne 26.
  září 2023 v sídle Ministerstva průmyslu a obchodu ČR (Politických
  vězňů 20\, Praha 1).\nRegistrace účastníků začne ve 13:15 hod. a 
 začátek oficiálního programu bude v 14:00 hod. Skončení akce je plá
 nován na 16:30 hod. \nProgram bude obsahovat oficiální přivítaní z
 ástupci Ministerstva průmyslu a obchodu ČR\, Svazu průmyslu a dopravy 
 ČR a tuniské delegace. Následně bude účastníkům přiblížena ekon
 omická situace a podnikatelské klima v Tunisku a České republice. Po 
 coffee breaku bude na programu prezentace jednotlivých firem\, která bud
 e zakončena B2B jednáním. Aktuální draft programu najdete v kopii to
 hoto emailu (aktualizovaný program následně zašleme přihlášeným ú
 častníkům).\nHlavními sektory\, na které bude podnikatelské fórum z
 aměřeno jsou: energetika\, agri-food\, zdravotnictví\, technologie a s
 lužby - doporučuje se účast především firmám z těchto odvětví.
 \nRegistrace na podnikatelské fórum a následné B2B jednání prosím 
 proveďte co možno nejdříve\, nejpozději 22.9.2023 na tomto linku:\n
 Registrace na Česko-tuniské podnikatelské fórum\nJednacím jazykem bud
 e angličtina (překladatelka bude k dispozici pouze pro případ překlad
 u do francouzštiny).\nPředběžný program fora je k dispozici zde.\n
URL:https://www.spcr.cz/cesko-tuniske-podnikatelske-forum-s-naslednym-b2b
DTSTART:20230926T140000
DTEND:20230926T170000
LOCATION:
END:VEVENT
END:VCALENDAR
