BEGIN:VCALENDAR
PRODID:-//eluceo/ical//2.0/EN
VERSION:2.0
CALSCALE:GREGORIAN
BEGIN:VEVENT
UID:fa9dbb5d114fcd1e972d417fe953beb4
DTSTAMP:20260423T150052Z
SUMMARY:12th International Investment Opportunities in Iran's Mines & Minin
 g Industries Exhibitions
DESCRIPTION:Název akce: 12th International Investment Opportunities in Ira
 n's Mines & Mining Industries Exhibitions\nURL: https://www.spcr.cz/12th-i
 nternational-investment-opportunities-irans-mines-mining-industries-exhibi
 tions\nPopis: \n\nDovolujeme si Vás pozvat na největší akci v oblasti
  důlního a těžebního průmyslu na Blízkém východě a v Íránu\, k
 terá je vysoce ceněny domácími i mezinárodními odborníky. Minex2023
  představuje nejnovější technologie a vybavení\, služby\, stroje pro
  doly a těžební průmysl v oblasti průzkumu\, těžby\, zpracování\,
  reprodukce a exportu a také představuje investiční příležitosti v 
 Íránu pro společnosti v těžebním průmyslu po celém světě.\nPodro
 bné informace o akci naleznete na tomto odkaze. \n
URL:https://www.spcr.cz/12th-international-investment-opportunities-irans-m
 ines-mining-industries-exhibitions
DTSTART:20231004T080000
DTEND:20231006T235959
LOCATION:
END:VEVENT
END:VCALENDAR
