BEGIN:VCALENDAR
PRODID:-//eluceo/ical//2.0/EN
VERSION:2.0
CALSCALE:GREGORIAN
BEGIN:VEVENT
UID:ac67dd314f3eb4ce03bdaf7529dfa548
DTSTAMP:20260423T174043Z
SUMMARY:Příležitosti pro české firmy na trzích Indie a Bangladéše
DESCRIPTION:Název akce: Příležitosti pro české firmy na trzích Indie
  a Bangladéše\nURL: https://www.spcr.cz/prilezitosti-pro-ceske-firmy-na-
 trzich-indie-bangladese\nPopis: \n\nOdbor ekonomicko-vědecké diplomacie 
 Ministerstva zahraničních věcí ČR ve spolupráci s Krajskou hospodá
 řskou komorou Královéhradeckého kraje si Vás dovoluje pozvat na semin
 ář o příležitostech pro české podnikatele v Indii a Bangladéši.\
 nPrezentovat bude příležitosti pro české firmy v Indii Eva Kopecká
 \, ekonomická diplomatka Velvyslanectví ČR v Dillí. Účastníky semi
 nářů seznámí s konkrétními obchodními příležitostmi v Indii\, p
 erspektivními obory podnikání i kulturou obchodního jednání. Exportn
 í možnosti přiakreditovaných zemí (Bangladéš\, Bhútán\, Maledivy\
 , Nepál\, Srí Lanka) bude v Praze online prezentovat Adam Podhola\, pol
 iticko-ekonomický diplomat české ambasády v Dillí.\nSemináře zahá
 jí Marek Svoboda\, ředitel Odboru ekonomicko-vědecké diplomacie MZV Č
 R a viceprezident Hospodářské komory ČR Radek Jakubský. V rámci obou
  seminářů proběhnou pro zájemce z řad firem individuální konzultac
 e.\nNa seminář v Praze je nutná rezervace předem na emailové adrese
  AkceOED@mzv.cz. Možnost rezervace a více informací o semináři v Hr
 adci Králové najdete na webu KHK Hradec Králové.\nStránka semináře
 \n
URL:https://www.spcr.cz/prilezitosti-pro-ceske-firmy-na-trzich-indie-bangla
 dese
DTSTART:20231004T110000
DTEND:20231004T235959
LOCATION:
END:VEVENT
END:VCALENDAR
