BEGIN:VCALENDAR
PRODID:-//eluceo/ical//2.0/EN
VERSION:2.0
CALSCALE:GREGORIAN
BEGIN:VEVENT
UID:56653eea1702ba7438bcd4a5be7cba1a
DTSTAMP:20260423T162732Z
SUMMARY:Příležitosti pro české firmy na trzích Indie a Bangladéše
DESCRIPTION:Název akce: Příležitosti pro české firmy na trzích Indie
  a Bangladéše\nURL: https://www.spcr.cz/prilezitosti-pro-ceske-firmy-na-
 trzich-indie-bangladese-0\nPopis: \n\nOdbor ekonomicko-vědecké diplomaci
 e Ministerstva zahraničních věcí ČR ve spolupráci s Krajskou hospod
 ářskou komorou Královéhradeckého kraje si Vás dovoluje pozvat na sem
 inář o příležitostech pro české podnikatele v Indii a Bangladéši
 .\nPrezentovat bude příležitosti pro české firmy v Indii Eva Kopeck
 á\, ekonomická diplomatka Velvyslanectví ČR v Dillí. Účastníky se
 minářů seznámí s konkrétními obchodními příležitostmi v Indii\,
  perspektivními obory podnikání i kulturou obchodního jednání. Expor
 tní možnosti přiakreditovaných zemí (Bangladéš\, Bhútán\, Malediv
 y\, Nepál\, Srí Lanka) bude v Praze online prezentovat Adam Podhola\, p
 oliticko-ekonomický diplomat české ambasády v Dillí.\nSemináře zah
 ájí Marek Svoboda\, ředitel Odboru ekonomicko-vědecké diplomacie MZV 
 ČR a viceprezident Hospodářské komory ČR Radek Jakubský. V rámci ob
 ou seminářů proběhnou pro zájemce z řad firem individuální konzult
 ace.\nNa seminář v Praze je nutná rezervace předem na emailové adres
 e AkceOED@mzv.cz. Možnost rezervace a více informací o semináři v H
 radci Králové najdete na webu KHK Hradec Králové.\nStránka seminář
 e\n
URL:https://www.spcr.cz/prilezitosti-pro-ceske-firmy-na-trzich-indie-bangla
 dese-0
DTSTART:20231003T100000
DTEND:20231003T235959
LOCATION:
END:VEVENT
END:VCALENDAR
