BEGIN:VCALENDAR
PRODID:-//eluceo/ical//2.0/EN
VERSION:2.0
CALSCALE:GREGORIAN
BEGIN:VEVENT
UID:b788118614bdde2a64a2bcd10a2627e2
DTSTAMP:20260423T150508Z
SUMMARY:Ekonomická slévárenská konference
DESCRIPTION:Název akce: Ekonomická slévárenská konference\nURL: https:
 //www.spcr.cz/ekonomicka-slevarenska-konference\nPopis: \n\nSvaz sléváre
 n ČR ve spolupráci s ČSOB a SPČR Vás zve na Ekonomickou slévárensk
 ou konferenci.\nProgram\n10.00–10.10   Zahájení\, přivítání host
 ů 10.10–10.30   Markoekonomická situace (ČR\, EU\, výhledy) — J.
  Bureš (ČSOB)10.30–11.00   Trh práce a jeho budoucnost — M. Jure
 čka (MPSV)11.00–11.30   Situace a udržitelnost průmyslu v ČR — E
 . Muřický (MPO)11.30–11.45   Diskuse11.45–12.00   Cofee break12.
 00–12.15   Budoucnost české ekonomiky\, konec levné ekonomiky — R
 . Špicar (SPČR)12.15–12.30   Slévárenská produkce EU\, ČR — J.
  Hlavinka (CAEF)12.30–12.45   Aktuální dotační výzvy pro slévár
 ny — J. Tomaštík (ČSOB) 12.45   Diskuse13.00   Ukončení jednán
 í\nProgram a pozvánka\nÚčast je zdarma (vyplněnou návratku zašlete 
 nejpozději do 22. 9. 2023)\nPouze pro omezený počet osob dle termínu p
 řihlášení.\nVyužití parkování v NHQ bude možné až po zpětném 
 potvrzení sekretariátem svazu. Návratka.\nSrdečně Vás zvouJakub Toma
 štík\, M.A. (Ředitel\, ČSOB EU Centrum) a Ing. Josef Hlavinka (výkonn
 ý ředitel Svazu sléváren ČR)\n                         
       \n \n
URL:https://www.spcr.cz/ekonomicka-slevarenska-konference
DTSTART:20231004T100000
DTEND:20231004T130000
LOCATION:
END:VEVENT
END:VCALENDAR
