BEGIN:VCALENDAR
PRODID:-//eluceo/ical//2.0/EN
VERSION:2.0
CALSCALE:GREGORIAN
BEGIN:VEVENT
UID:f92e860b80f7413fee08d08c6600b62f
DTSTAMP:20260423T150246Z
SUMMARY:Logistická konference ALMAC v Hongkongu
DESCRIPTION:Název akce: Logistická konference ALMAC v Hongkongu\nURL: htt
 ps://www.spcr.cz/logisticka-konference-almac-v-hongkongu\nPopis: \n\nHKTDC
  Prague Consultant Office: rádi bychom Vás informovali\, že se ve dnec
 h 21.-22.11.2023 opět uskuteční logistická konference Asian Logisti
 cs\, Maritime and Aviation Conference (ALMAC). Jedná se o jednu z nejvý
 znamnějších událostí svého druhu v Asii propojující profesionály
  z oblasti logistiky a všech částí dodavatelského řetězce.\nLetošn
 í konference s názvem ”“Future-proofing Supply Chains: Diversificat
 ion ‧ Decarbonisation ‧ Digitalisation” se zaměří na násle
 dující témata:\n\nMegatrendy v globálním obchodu a všech částech d
 odavatelských řetězců\nRegionální propojení a příležitosti\nDive
 rzifikace dodavatelského řetězce\nUdržitelnost\nInovace a technologie\
 n\nOpět zde proběhne řada tematických fór a workshopů jako např.  
 ESG workshop\, E-commerce workshop nebo workshop o posílení postavení m
 ladých lidí budujících v logistice svou kariéru. K dispozici bude t
 aké možnost business matchingu a networkingu.\nPražská pobočka HKTDC 
 má možnost nabídnout omezený počet volných vstupů na akci (2 pro 
 fyzickou účast\, 8 pro sledování záznamů přednášek) – pokud pl
 ánujete navštívit tuto konferenci nebo Vás zajímají logistická tém
 ata a chtěli byste využít možnost zpětného shlédnutí\, neváhejte 
 nás neprodleně kontaktovat (běžná cena za vstup je 175 USD\, tato n
 abídka je časově omezená)!\nKontakt mail: <jana.krizova@hktdc.org>\nh
 ttp://www.hktdc.czLinkedIn – HKTDC Prague\n
URL:https://www.spcr.cz/logisticka-konference-almac-v-hongkongu
DTSTART:20231121T080000
DTEND:20231122T170000
LOCATION:
END:VEVENT
END:VCALENDAR
