BEGIN:VCALENDAR
PRODID:-//eluceo/ical//2.0/EN
VERSION:2.0
CALSCALE:GREGORIAN
BEGIN:VEVENT
UID:7dd37bc1e416922ddf788205bd513efb
DTSTAMP:20260423T162802Z
SUMMARY:Podnikatelská mise s předsedou vlády ČR do Afriky
DESCRIPTION:Název akce: Podnikatelská mise s předsedou vlády ČR do Af
 riky\nURL: https://www.spcr.cz/podnikatelska-mise-s-predsedou-vlady-cr-do-
 afriky\nPopis: \n\nAKTUALIZACE K 12. 10. 2023:\nV případě zájmu o př
 ipojení k podnikatelské misi v jednotlivých zemích kontaktujte pros
 ím napřímo Helenu Kotkovou\, hkotkova@spcr.cz\, a to nejpozději do 18
 . 10. 2023.\nNa základě termínů uvedené v původní pozvánce\, viz 
 níže\, je možnost přihlášení se na celou podnikatelskou misi do vš
 ech zemí již uzavřena. Je však možnost se stále přihlásit v př
 ípadě zájmu o připojení se k programu pouze ve vybraných zemích. 
 V tomto případě si každý účastník zajišťuje dopravu do dané ze
 mě a také vízové povinnosti sám.  \nÚřad vlády ČR a Svaz průmys
 lu a dopravy ČR Vás zvou k účasti v podnikatelské delegaci vedené 
 prezidentem SP ČR Janem Rafajem\, která bude doprovázet předsedu vlád
 y Petra Fialu na jeho cestě po vybraných afrických zemích ve dnech 3. 
 až 11. listopadu 2023. Během této cesty je plánováno navštívit Etio
 pii\, Keňu\, Angolu\, Ghanu a Pobřeží slonoviny. \nHarmonogram cesty 
 bude zahrnovat byznys fóra a B2B networking/matchmaking v hlavních měs
 tech navštívených zemích (tj. Addis Abeba\, Nairobi\, Luanda\, Akkra a
  Yamoussoukro/Abidžan) a další doprovodné programy\, které umožní n
 avázání kontaktů s místním podnikatelským prostředí a zároveň 
 pochopit jejich specifika. Vzhledem k jazykovému zaměření daných zem
 í bude většina jednání probíhat v angličtině\, v Angole je výho
 dou portugalština\, v Pobřeží slonoviny francouzština. Harmonogram c
 elé cesty je ve fázi přípravy a ÚV ČR a SP ČR si vyhrazují právo 
 na případné změny\, které budou účastníkům včas komunikovány. 
 \nÚčast v této podnikatelské misi je určena pro firmy a organizace\,
  které již mají stávající\, či začínající konkrétní projekty 
 ve vybraných zemích. Účast v delegaci doprovázející předsedu vlá
 dy České republiky poskytne jedinečnou možnost oslovit a pozvat potenc
 iální či stávající obchodní partnery na vybrané body programu a t
 ím prezentovat svůj strategický záměr a odhodlání rozvíjet aktivit
 y v dané zemi. V rámci přípravy mise jsou pro účastníky plánová
 ny na říjen také hybridní semináře\, které poskytnou bližší info
 rmace o daných zemích\, logistice cesty a také základy protokolu potř
 ebné pro tuto misi. \nPro firmy a organizace\, které se zúčastní cel
 é cesty a poletí celou trasu vládním speciálem činí záloha na úč
 astnický poplatek 129 000 Kč bez DPH (pro členské firmy SP ČR a čle
 ny kolektivních členů SP ČR je 10% sleva). \nDo všech zemí\, které
  jsou v rámci této cesty plánovány\, je třeba platné vízum. Z toh
 oto důvodu musí všichni podnikatelé doručit do pátku 22. 9. do sídl
 a SP ČR (Freyova 948/11\, Praha 9) své cestovní pasy (platné alespoň 
 6 měsíců po návratu do ČR)\, podklady pro žádosti o všechna víza 
 (budou individuálně poskytnuta přihlášeným účastníkům) a také p
 otvrzení o očkování žlutou zimnicí (sken dané stránky z očkovac
 ího průkazu). Upozorňujeme\, že z důvodů potřeby získání 5 víz
  se může stát\, že pasy budou navráceny až v době odletu. \nZáje
 mci o zařazení do této delegace jako první krok vyplní tento online f
 ormulář a to do pátku\, 15. 9.\, do 17:00. \nVyplnění formuláře ne
 znamená automaticky účast v misi. Úřad vlády ČR a Svaz průmyslu a 
 dopravy ČR si vyhrazují právo na sestavení finálního seznamu účast
 nických firem podle sektoru zaměření a relevance\, struktury mise a ka
 pacit vládního speciálu. Prioritu budou mít organizace\, které mají 
 konkrétní zájmy ve všech plánovaných destinacích a tyto zájmy dolo
 žily krátkým popisem svých projektů v online formuláři.\nZájemci 
 budou v pondělí 18. 9. kontaktováni pracovníky SP ČR s informací o
  zařazení do delegace a dostanou k podpisu závaznou přihlášku a zá
 roveň informace o dokumentech potřebných k získání víza. Tyto doku
 menty\, společně s potvrzením o očkování o žluté zimnici a pasem 
 je nutno fyzicky dodat do sídla SP ČR nejpozději do pátku 22. 9. 2023.
   \nPlně vnímáme časový tlak způsobený nutností zařízení víz
  do všech plánovaných zemí. Doporučujeme zvážit výběr vhodného r
 eprezentanta dané organizace a v případě nejistoty\, který z předs
 tavitelů dané organizace by se mohl mise zúčastnit\, preventivně posk
 ytnout pro vyřízení víz údaje a pasy dvou osob\, aby bylo zajištěno
 \, že např. v případě onemocnění\, může danou organizaci zastoup
 it druhý člověk. Z důvodů vízové komplexnosti této cesty totiž n
 ebude možno po pátku 22. 9. 2023 měnit účastníky mise. \nÚčast na
  misi je otevřen také zájemcům pouze o konkrétní země. V tomto př
 ípadě si každý účastník zajišťuje dopravu do dané země a také 
 vízové povinnosti sám. Zájemce o účast na programu pouze ve vybraný
 ch zemích prosíme o vyplnění tohoto formuláře do středy 27. 9. 2023
 .\nV případě jakýchkoliv dotazů kontaktujte tým SP ČR na mise@spcr
 .cz. \n
URL:https://www.spcr.cz/podnikatelska-mise-s-predsedou-vlady-cr-do-afriky
DTSTART:20231103T000000
DTEND:20231111T235959
LOCATION:
END:VEVENT
END:VCALENDAR
