BEGIN:VCALENDAR
PRODID:-//eluceo/ical//2.0/EN
VERSION:2.0
CALSCALE:GREGORIAN
BEGIN:VEVENT
UID:d62062e2c6a3fedc44070dfdbb7cbbfd
DTSTAMP:20260423T145743Z
SUMMARY:Edukační seminář Světové banky - rekonstrukce Ukrajiny
DESCRIPTION:Název akce: Edukační seminář Světové banky - rekonstrukc
 e Ukrajiny\nURL: https://www.spcr.cz/edukacni-seminar-svetove-banky-rekons
 trukce-ukrajiny\nPopis: \n\nSvaz průmyslu a dopravy spolu s Hospodářsko
 u komorou a Ukrajinsko-českou obchodní komorou si Vás dovolujeme pozva
 t na edukační seminář Ministerstva zahraničních věcí ČR k mož
 nostem zapojení českých firem do rekonstrukce Ukrajiny ve spolupráci 
 se Světovou bankou (WB). \nSeminář se koná pod záštitou vládního z
 mocněnce pro rekonstrukci Ukrajiny\, Tomáše Kopečného.Světová banka
  bude v rámci semináře prezentovat své aktuální aktivity směrem k U
 krajině\, připravované programy a možnosti financování obnovy Ukraji
 ny.Seminář proběhne ve Velkém sále Černínského paláce dne 25.9.2
 023 dopoledne za osobní účasti zástupců Světové banky\, MPO\, MF\,
  MZV a dalších zástupců klíčových institucí\, či v hybridní for
 mě prostřednictvím platformy MS Teams.\nProgram semináře:\n8:30-9:0
 0      Registrace účastníků\n9:00-9:30     Zahájení projevy Vl
 ádního zmocněnce pro rekonstrukci Ukrajiny\, zástupce MPO a MF\n9:30-1
 0:30    Prezentace Světové banky - 1. část\n10:30-11:00   Coffee b
 reak\n11:00-12:00   Prezentace Světové banky - 2. část a dotazy úč
 astníků\nSeminář je zdarma.\nV případě zájmu prosíme o registrac
 i. Registrace k semináři bude otevřena do 21.9.2023 do 15:00.\n \n
URL:https://www.spcr.cz/edukacni-seminar-svetove-banky-rekonstrukce-ukrajin
 y
DTSTART:20230925T090000
DTEND:20230925T120000
LOCATION:
END:VEVENT
END:VCALENDAR
