BEGIN:VCALENDAR
PRODID:-//eluceo/ical//2.0/EN
VERSION:2.0
CALSCALE:GREGORIAN
BEGIN:VEVENT
UID:d34cf12e5a6ed5fee5d50c45e3cd2d49
DTSTAMP:20260423T174015Z
SUMMARY:Posuzování vlivů na veřejné zdraví v rámci posuzování vliv
 ů na prostředí 
DESCRIPTION:Název akce: Posuzování vlivů na veřejné zdraví v rámci 
 posuzování vlivů na prostředí \nURL: https://www.spcr.cz/posuzovani-v
 livu-na-verejne-zdravi-v-ramci-posuzovani-vlivu-na-prostredi\nPopis: \n\nH
 odnocení vlivů na veřejné zdraví je zpravidla součástí posouzení 
 vlivů na životní prostředí (EIA\, SEA) dle zákona č. 100/2001 Sb.\,
  o posuzování vlivů na životní prostředí\, v platném znění. U z
 áměrů uvedených v příloze č. 1 kategorii I (záměry vždy podléha
 jící posouzení) tohoto zákona a dále u ostatních záměrů\, pokud s
 e tak stanoví v závěru zjišťovacího řízení\, musí být část do
 kumentace týkající se posuzování vlivů na veřejné zdraví zpracov
 ána osobou\, která je držitelem osvědčení odborné způsobilosti pro
  oblast posuzování vlivů na veřejné zdraví\, vydávaného Ministerst
 vem zdravotnictví (viz § 19 odst. 1 zákona). Hodnocení vlivů na veře
 jné zdraví se zpravidla zpracovává pro posouzení zdravotních rizik s
 pojených s hlukem a znečištěním ovzduší. Mezi nejdůležitější p
 odklady při hodnocení vlivů na veřejné zdraví (v rámci EIA a SEA) t
 ak patří zejména akustická a rozptylová studie.\nPROGRAM\n\n Posuzov
 ání vlivů na veřejné zdraví versus hodnocení zdravotních rizik.\n
  Hodnocení vlivu hluku a znečištěného ovzduší na zdraví (v příp
 adě zájmu rovněž vliv elektromagnetických polí a záření).\n Hodn
 ocení časových ztrát života z důvodu předčasných úmrtí a nemocn
 osti.\n\nČASOVÝ HARMONOGRAM8:30 - 9:00 registrace\n9:00 - 10:30 1. čás
 t diskuse\n10:30 - 10:45 přestávka\n10:45 - 12:00 2. část diskuse \n1
 2:30 – 13:00 neformální diskuse\, závěr setkání\nMODERÁTOR \nRNDr
 . Vítězslav Jiřík\, Ph.D. - Ostravská univerzita\, Ústav epidemiolog
 ie a ochrany veřejného zdraví (Lékařská fakulta)\nREGISTRACE \nNa di
 skusní fórum se\, prosím\, přihlaste přes tento online formulář. V 
 případě dotazů se\, prosím\, obraťte na manažerku regionálního za
 stoupení Mgr. Michaelu Válkovou\, tel.: 732 456 823\, e-mail: mvalkova@s
 pcr.cz.\n
URL:https://www.spcr.cz/posuzovani-vlivu-na-verejne-zdravi-v-ramci-posuzova
 ni-vlivu-na-prostredi
DTSTART:20230921T090000
DTEND:20230921T130000
LOCATION:
END:VEVENT
END:VCALENDAR
