BEGIN:VCALENDAR
PRODID:-//eluceo/ical//2.0/EN
VERSION:2.0
CALSCALE:GREGORIAN
BEGIN:VEVENT
UID:a1c528772586644cdf237bb80508672c
DTSTAMP:20260423T125212Z
SUMMARY:Sustainable Business Forum: Elektromobilita
DESCRIPTION:Název akce: Sustainable Business Forum: Elektromobilita\nURL: 
 https://www.spcr.cz/sustainable-business-forum-elektromobilita\nPopis: \n\
 nZveme vás na francouzský ekosystém a řešení elektromobility formou 
 workshopů. Představení všech aspektů elektromobility následované pr
 aktickou ukázkou produktů.\n\nAkce je určena pro přihlášené uživat
 ele – členy. \n Přihlašujte se nejpozději do úterý 19. září 2
 023 - 18.00 hodin.\n \n
URL:https://www.spcr.cz/sustainable-business-forum-elektromobilita
DTSTART:20230920T093000
DTEND:20230920T170000
LOCATION:
END:VEVENT
END:VCALENDAR
