BEGIN:VCALENDAR
PRODID:-//eluceo/ical//2.0/EN
VERSION:2.0
CALSCALE:GREGORIAN
BEGIN:VEVENT
UID:e49e724e899ad5af52eda195f10f1fca
DTSTAMP:20260423T150037Z
SUMMARY:Podnikatelská mise do Kazachstánu a Uzbekistánu 
DESCRIPTION:Název akce: Podnikatelská mise do Kazachstánu a Uzbekistánu
  \nURL: https://www.spcr.cz/podnikatelska-mise-do-kazachstanu-uzbekistanu\
 nPopis: \n\nONLINE FORMULÁŘ A MOŽNOST REGISTRACE BYLA UKONČENA DLE PL
 ÁNU\, TJ. 10. ZÁŘÍ 2023 VE 23:00 HOD. POKUD MÁTE ZÁJEM SE TÉTO MISE
  ZÚČASTNIT\, OZVĚTE SE PROSÍM OBRATEM MARTINOVI NATAFALUŠIMU\, MNATA
 FALUSI@SPCR.CZ\, +420 733 643 556. MOŽNOST ZAŘAZENÍ DO DELEGACE JE OTE
 VŘENA POUZE DO ÚTERÝ 12. ZÁŘÍ DO 17:00.\nMinisterstvo zemědělství
  ČR a Svaz průmyslu a dopravy ČR Vás zvou k účasti v podnikatelsk
 é delegaci vedené viceprezidentem SP ČR Františkem Chaloupeckým\, kte
 rá bude doprovázet ministra zemědělství Marka Výborného do Kazachst
 ánu a Uzbekistánu ve dnech 8.-12. října 2023.\nHarmonogram cesty bude 
 zahrnovat pět zastávek s odletem z Prahy dne 8.10.2023 ve večerních 
 hodinách a s plánem navštívit Kokčetau\, Astanu\, Turkestán\, Tašk
 ent a Taškentskou oblast a s předpokládaným příletem do Prahy dne 1
 2.10.2023 v nočních hodinách. V Kokčetau\, Turkestánu a Taškentu b
 udou uspořádána business fóra za účasti zástupců místního podnik
 atelského prostředí.\nHlavní oblastí zájmu této cesty jsou sektory
  zemědělství: technologie a vstupy pro rostlinnou a živočišnou výr
 obu a potravinářství a výrobci zemědělské techniky a strojů.\nZál
 oha na úhradu nákladů pro 1 účastníka mise je pro členské firmy SP
  ČR 35.550\,- Kč (členské firmy SP ČR a členy kolektivních členů 
 SP ČR)\, pro nečlenské subjekty 39.500\,- Kč.\nV případě zájmu o 
 účast na misi Vás žádáme o vyplnění formuláře\, zaslání vypln
 ěné a podepsané závazné přihlášky a zaslání vzorového snímku z
 a Vaši společnost k prezentaci na networkingových akcích (v ruštině
 ).\nVzhledem k jazykovému zaměření obou zemí upozorňujeme\, že vět
 šina obchodních jednání bude probíhat v ruštině a účastník by t
 edy měl ovládat ruštinu na konverzační úrovni (ideálně v kombinac
 i s angličtinou).\nKapacita mise je omezená a Ministerstvo zemědělst
 ví ČR a Svaz průmyslu a dopravy ČR si vyhrazují právo na výběr př
 ihlášených členů mise dle volných kapacit či adekvátního zamě
 ření této konkrétní mise.\nONLINE FORMULÁŘ A MOŽNOST REGISTRACE B
 YLA UKONČENA DLE PLÁNU\, TJ. 10. ZÁŘÍ 2023 VE 23:00 HOD. POKUD MÁTE 
 ZÁJEM SE TÉTO MISE ZÚČASTNIT\, OZVĚTE SE PROSÍM OBRATEM MARTINOVI NA
 TAFALUŠIMU\, MNATAFALUSI@SPCR.CZ\, +420 733 643 556. MOŽNOST ZAŘAZEN
 Í DO DELEGACE JE OTEVŘENA POUZE DO ÚTERÝ 12. ZÁŘÍ DO 17:00.\n\nPOZN
 ÁMKA: 1. 9. byla tato stránka a závazná přihláška aktualizována o 
 základní zálohovou cenu za účast ve výši 39 500 Kč.\n
URL:https://www.spcr.cz/podnikatelska-mise-do-kazachstanu-uzbekistanu
DTSTART:20231008T200000
DTEND:20231012T230000
LOCATION:
END:VEVENT
END:VCALENDAR
