BEGIN:VCALENDAR
PRODID:-//eluceo/ical//2.0/EN
VERSION:2.0
CALSCALE:GREGORIAN
BEGIN:VEVENT
UID:92181f425794bbf45df1fc9c19baad53
DTSTAMP:20260423T125013Z
SUMMARY:Hannover Messe 2024
DESCRIPTION:Název akce: Hannover Messe 2024\nURL: https://www.spcr.cz/hann
 over-messe-2024-0\nPopis: \n\nHannover Messe 2024 – dvě skvělé novink
 y pro naše exportéry!\n\nFinanční podpora z MPO ČR\nSleva na plochu 
 do 15. 9. 2023\n\nVážení členové\,\ndovolte\, abychom Vás informoval
 i o velmi výhodné možnosti\, představit Vaše produkty a technologie n
 a mezinárodním strojírenském veletrhu Hannover Messe\, který se koná
  22.–26. dubna 2024 v Hannoveru.\nVeletrh Hannover Messe pokrývá cel
 é spektrum strojírenského průmyslu a patří mezi nejprestižnější 
 akce na světě. Mezi hlavní témata patří automatizace\, průmysl 4.0\
 , bezpečnost IT\, umělá inteligence\, vodík\, pohony\, elektromobilita
 \, subdodávky a mnohé další.\nVeletrh Hannover Messe 2024 je zařazen 
 do oficiálních účastí MPO ČR\, do kategorie C. Cílem kategorie C je
  umožnit každému vystavovateli umístit vlastní expozici do preferovan
 é výstavní haly podle nomenklaturního členění veletrhu.\nMPO poskyt
 ne vystavovatelům finanční příspěvek nejen na pořízení výstavní
  plochy\, ale rovněž na pokrytí nákladů na stavbu expozice 5 až 9 m2
 . MPO dále hradí základní registrační poplatek.\nVeškeré informace
  k oficiálním účastem naleznete na webu MPO.\nKontaktní osobou je pa
 ní Marcela Kleníková.\nPři vyplnění přihlášky do 15. září 2023
  poskytuje pořadatel slevu na výstavní plochu!\nJestliže Vás tato inf
 ormace zaujala a máte zájem o více informací k veletrhu\, k náklad
 ům nebo k finanční podpoře\, můžete kontaktovat výhradní zastoupe
 ní pořadatele v ČR\, paní Naďu Lichte\, info@proveletrhy.cz\, tel.: 
 775 663 548\, 775 663 700\, www.hannovermesse.de/en/\n
URL:https://www.spcr.cz/hannover-messe-2024-0
DTSTART:20240422T000000
DTEND:20240426T235959
LOCATION:
END:VEVENT
END:VCALENDAR
