BEGIN:VCALENDAR
PRODID:-//eluceo/ical//2.0/EN
VERSION:2.0
CALSCALE:GREGORIAN
BEGIN:VEVENT
UID:3edfb0f23ab3fe57c328c12fb0e1d311
DTSTAMP:20260423T173437Z
SUMMARY:Česko-jordánské podnikatelské fórum a B2B networking
DESCRIPTION:Název akce: Česko-jordánské podnikatelské fórum a B2B net
 working\nURL: https://www.spcr.cz/cesko-jordanske-podnikatelske-forum-b2b-
 networking\nPopis: \n\nRádi bychom Vás informovali o připravovaném Č
 esko-jordánském podnikatelském fóru s B2B networkingem u příležit
 osti návštěvy jordánského ministra průmyslu a obchodu s podnikatels
 kou delegací vedenou Jordan Europe Business Association – JEBA.\nSeznam
  jordánské doprovodné podnikatelské delegace.\nSetkání se uskutečn
 í za účasti obou ministrů průmyslu a obchodu dne 12. září 2023 
 od 14 do 16 hodin (registrace začíná ve 13.40 hodin) na Ministerstvu pr
 ůmyslu a obchodu ČR\, Na Františku 32\, Praha 1. \nAkce je zaměřena 
 na obory: \n\nzdravotnictví\, \nenergetika/solární energie\, \ntěžeb
 ní průmysl\, \nvodní a odpadové hospodářství\, \nturismus\, \nchemi
 cký a kosmetický průmysl \na potravinářství. \n\nPo skončení plen
 ární časti setkání budou následovat B2B setkání českých a jordá
 nských firem. Jednací jazyk je angličtina. Prosíme o vyplnění regis
 tračního formuláře nejpozději do pátku 8. 9. 2023\n
URL:https://www.spcr.cz/cesko-jordanske-podnikatelske-forum-b2b-networking
DTSTART:20230912T140000
DTEND:20230912T160000
LOCATION:
END:VEVENT
END:VCALENDAR
