BEGIN:VCALENDAR
PRODID:-//eluceo/ical//2.0/EN
VERSION:2.0
CALSCALE:GREGORIAN
BEGIN:VEVENT
UID:6315431f07e690664fae00585e9bf0d0
DTSTAMP:20260423T150340Z
SUMMARY:International Agribusiness Fair- Hammamet
DESCRIPTION:Název akce: International Agribusiness Fair- Hammamet\nURL: ht
 tps://www.spcr.cz/international-agribusiness-fair-hammamet\nPopis: \n\nDov
 olujeme si Vás pozvat na první ročník Mezinárodního veletrhu agrobyz
 nysu AGROBUSINESS MEDAFRIQUE EXPO 2023\, který se bude konat od 16. do 18
 . listopadu 2023 v Medině Yasmine Hammamet v Tunisku ve spolupráci s Tun
 iským svazem průmyslu a Commerce (UTICA) Agrobusiness Federation. \nPrvn
 í veletrh AGROBUSINESS MEDAFRIQUE EXPO si klade za cíl být fyzickou a v
 irtuální platformou pro setkání mezi tuniskými a zahraničními hospo
 dářskými subjekty v zemědělsko-potravinářském sektoru za účelem 
 rozvoje oboustranně výhodného partnerství v logice tuniské\, africké
  a mezinárodní potravinové soběstačnosti . Veletrh jako takový bude 
 dobrou příležitostí k podpoře mezinárodních partnerství s cílem p
 odpořit geopolitickou situaci Tuniska\, křižovatky mezi severem a jihem
  v srdci Středozemního moře\, a umožnit mezinárodním investorům tě
 žit z této konkurenční výhody.\nBližší inofrmace ke stažení zde.
 \n
URL:https://www.spcr.cz/international-agribusiness-fair-hammamet
DTSTART:20231116T000000
DTEND:20231116T235959
LOCATION:
END:VEVENT
END:VCALENDAR
